BEGIN:VCALENDAR
VERSION:2.0
PRODID:-//ChamberMaster//Event Calendar 2.0//EN
METHOD:PUBLISH
X-PUBLISHED-TTL:P3D
REFRESH-INTERVAL:P3D
CALSCALE:GREGORIAN
BEGIN:VEVENT
DTSTART:20200710T213000Z
DTEND:20200711T000000Z
X-MICROSOFT-CDO-ALLDAYEVENT:FALSE
SUMMARY:Ribbon Cutting Irma's Tacos July 10\, 2020
DESCRIPTION:Please join us for a Ribbon Cutting at Irma's Tacos\, Craft Beer and Tequila Bar!\n\n\n\nJoin Tommy Villani and his staff for a cocktail party with entertainment by DJ Tony Accardi from 5-8pm on the patio and outside area.  Ribbon Cutting will be at 5:30 pm.
X-ALT-DESC;FMTTYPE=text/html:<span style="font-size:18px\;">Please join us for a Ribbon Cutting at Irma&#39\;s Tacos\, Craft Beer and Tequila Bar!<br />\n<br />\nJoin Tommy Villani and his staff for a cocktail party with entertainment by DJ Tony Accardi from 5-8pm on the patio and outside area.&nbsp\; Ribbon Cutting will be at 5:30 pm.&nbsp\;&nbsp\;</span><br style="font-size: 18px\;" />\n<span style="font-size:18px\;">&nbsp\;</span><br />\n&nbsp\;
LOCATION:Irma's Tacos\, Craft Beer and Tequila Bar 12221 Mercado Drive Venice FL 34292
UID:e.3379.1924
SEQUENCE:3
DTSTAMP:20260424T172138Z
URL:https://business.venicechamber.com/events/details/ribbon-cutting-irma-s-tacos-july-10-2020-1924
END:VEVENT

END:VCALENDAR
