BEGIN:VCALENDAR
VERSION:2.0
PRODID:-//ChamberMaster//Event Calendar 2.0//EN
METHOD:PUBLISH
X-PUBLISHED-TTL:P3D
REFRESH-INTERVAL:P3D
CALSCALE:GREGORIAN
BEGIN:VEVENT
DTSTART:20190116T210000Z
DTEND:20190116T220000Z
X-MICROSOFT-CDO-ALLDAYEVENT:FALSE
SUMMARY:Ribbon Cutting Hosted Gourmet January 16\, 2019
DESCRIPTION:Ribbon Cutting at Hosted Gourmet\n\nJoin us for some light refreshments!
X-ALT-DESC;FMTTYPE=text/html:<span style="font-size:18px\;">Ribbon Cutting at Hosted Gourmet<br />\nJoin us for some light refreshments!</span>
LOCATION:Hosted Gourmet 113 Tampa Ave Venice FL 34285
UID:e.3379.1123
SEQUENCE:3
DTSTAMP:20260425T221629Z
URL:https://business.venicechamber.com/events/details/ribbon-cutting-hosted-gourmet-january-16-2019-1123
END:VEVENT

END:VCALENDAR
