BEGIN:VCALENDAR
VERSION:2.0
PRODID:-//ChamberMaster//Event Calendar 2.0//EN
METHOD:PUBLISH
X-PUBLISHED-TTL:P3D
REFRESH-INTERVAL:P3D
CALSCALE:GREGORIAN
BEGIN:VEVENT
DTSTART:20221103T200000Z
DTEND:20221103T210000Z
X-MICROSOFT-CDO-ALLDAYEVENT:FALSE
SUMMARY:Ribbon Cutting Handcrafted Marketing Solutions November 3\, 2022
DESCRIPTION:Please join us for a Ribbon Cutting at Handcrafted Marketing Solutions!  \n\n\n\n"Our Digital Marketing Agency has a passion for entrepreneurship.  We believe that every business can be successful when they have the right strategy to achieve their goals.  We help businesses of all types to develop a strategy that will work\, helping your business with their digital footprint."\n\n\n\nRibbon Cutting is at 4:00 PM.  Refreshments will be served.\n\n\n\nThe Venice Area Chamber of Commerce is committed to the health and safety of its members.  We are monitoring and following the latest direction as outlined by local\, state\, and federal officials.  We recommend that all attendees review and follow the latest guidance on the COVID-19 pandemic from the Centers for Disease Control and Prevention (CDC):  https://www.cdc.gov/coronavirus/2019-ncov/index.html\n\n\n\n \n\n*IT IS POSSIBLE AT ANY OF OUR CHAMBER EVENTS WE WILL BE TAKING PHOTOS AND/OR VIDEOING\, AND THAT YOU MAY BE FEATURED IN THESE PHOTOS/VIDEOS. THESE PHOTOS/VIDEOS ARE FOR THE USE OF THE VENICE AREA CHAMBER OF COMMERCE ONLY AND COULD POSSIBLY BE FEATURED ON OUR SOCIAL MEDIA ACCOUNTS\, ON OUR WEBSITE\, AND/OR IN THE CHAMBER'S ADVERTISEMENTS AND PROMOTIONAL MATERIALS.
X-ALT-DESC;FMTTYPE=text/html:<p><strong><span style="font-size:18px\;">Please join us for a Ribbon Cutting at Handcrafted Marketing Solutions!&nbsp\;&nbsp\;<br />\n<br />\n&quot\;<em>Our Digital Marketing Agency has a passion for entrepreneurship.&nbsp\; We believe that every business can be successful when they have the right strategy to achieve their goals.&nbsp\; We help businesses&nbsp\;of all types to develop a strategy that will work\, helping your business with their digital footprint.</em>&quot\;<br />\n<br />\nR</span></strong><span data-uw-styling-context="true" style="box-sizing: border-box\; font-weight: bolder\; color: rgb(68\, 68\, 68)\; font-family: Arial\, Helvetica\, sans-serif\; font-size: 18px\;">ibbon Cutting is at 4:00 PM.&nbsp\; Refreshments will be served.</span><br />\n<br />\n<strong><span style="font-family:calibri\,sans-serif\;"><span style="font-size:12.0pt\;">The Venice Area Chamber of Commerce is committed to the health and safety of its members.&nbsp\; We are monitoring and following the latest&nbsp\;direction as outlined&nbsp\;by local\, state\, and federal officials.&nbsp\; We recommend that all attendees review and follow the latest guidance on the COVID-19 pandemic from the Centers for Disease Control and Prevention (CDC):&nbsp\;&nbsp\;<u><a href="https://www.cdc.gov/coronavirus/2019-ncov/index.html"><span style="font-weight:normal\;">https://www.cdc.gov/coronavirus/2019-ncov/index.html</span></a></u></span></span></strong><br />\n<br />\n&nbsp\;<br />\n<em><strong><span style="text-transform:uppercase\;letter-spacing:1.5pt\;"><span style="color:black\;"><span style="font-family:helvetica\,sans-serif\;"><span style="font-size:7.0pt\;">*IT IS POSSIBLE AT ANY OF OUR CHAMBER EVENTS WE WILL BE TAKING PHOTOS AND/OR VIDEOING\, AND THAT YOU MAY BE FEATURED IN THESE PHOTOS/VIDEOS. THESE PHOTOS/VIDEOS ARE FOR THE USE OF THE VENICE AREA CHAMBER OF COMMERCE ONLY AND COULD POSSIBLY BE FEATURED ON OUR SOCIAL MEDIA ACCOUNTS\, ON OUR WEBSITE\, AND/OR IN THE CHAMBER&rsquo\;S ADVERTISEMENTS AND PROMOTIONAL MATERIALS.</span></span></span></span></strong></em><br />\n&nbsp\;</p>\n
LOCATION:Handcrafted Marketing Solutions 530 US Highway 41 Byp S Ste B 19 Venice FL 34285
UID:e.3379.6600
SEQUENCE:3
DTSTAMP:20260420T064643Z
URL:https://business.venicechamber.com/events/details/ribbon-cutting-handcrafted-marketing-solutions-november-3-2022-6600
END:VEVENT

END:VCALENDAR
