BEGIN:VCALENDAR
VERSION:2.0
PRODID:-//ChamberMaster//Event Calendar 2.0//EN
METHOD:PUBLISH
X-PUBLISHED-TTL:P3D
REFRESH-INTERVAL:P3D
CALSCALE:GREGORIAN
BEGIN:VEVENT
DTSTART:20200211T210000Z
DTEND:20200211T220000Z
X-MICROSOFT-CDO-ALLDAYEVENT:FALSE
SUMMARY:Ribbon Cutting Gulf Coast Retina Center February 11\, 2020
DESCRIPTION:Please join us for a Ribbon Cutting at Gulf Coast Retina Center!
X-ALT-DESC;FMTTYPE=text/html:<span style="font-size:18px\;">Please join us for a Ribbon Cutting at Gulf Coast Retina Center!</span><br />\n&nbsp\;
LOCATION:Gulf Coast Retina Center 1580 Jacaranda Blvd Venice FL 34292
UID:e.3379.1878
SEQUENCE:3
DTSTAMP:20260425T012203Z
URL:https://business.venicechamber.com/events/details/ribbon-cutting-gulf-coast-retina-center-february-11-2020-1878
END:VEVENT

END:VCALENDAR
