BEGIN:VCALENDAR
VERSION:2.0
PRODID:-//ChamberMaster//Event Calendar 2.0//EN
METHOD:PUBLISH
X-PUBLISHED-TTL:P3D
REFRESH-INTERVAL:P3D
CALSCALE:GREGORIAN
BEGIN:VEVENT
DTSTART:20221213T140000Z
DTEND:20221213T150000Z
X-MICROSOFT-CDO-ALLDAYEVENT:FALSE
SUMMARY:Ribbon Cutting for Parise's Espresso\, Coffee & Cannoli Bar December 13\, 2022
DESCRIPTION:Please join us for a Ribbon Cutting for Parise's Espresso\, Coffee & Cannoli Bar at the Venice Area Chamber of Commerce!  \n\n\n\nThey will have their food truck onsite and serving refreshments! We hope you will join us in celebration!\n\n \n\n\n\n \n\n*IT IS POSSIBLE AT ANY OF OUR CHAMBER EVENTS WE WILL BE TAKING PHOTOS AND/OR VIDEOING\, AND THAT YOU MAY BE FEATURED IN THESE PHOTOS/VIDEOS. THESE PHOTOS/VIDEOS ARE FOR THE USE OF THE VENICE AREA CHAMBER OF COMMERCE ONLY AND COULD POSSIBLY BE FEATURED ON OUR SOCIAL MEDIA ACCOUNTS\, ON OUR WEBSITE\, AND/OR IN THE CHAMBER'S ADVERTISEMENTS AND PROMOTIONAL MATERIALS.
X-ALT-DESC;FMTTYPE=text/html:<p><strong><span style="font-size:18px\;">Please join us for a Ribbon Cutting for Parise&#39\;s Espresso\, Coffee &amp\; Cannoli Bar&nbsp\;at the Venice Area Chamber of Commerce!&nbsp\;&nbsp\;<br />\n<br />\nThey will have their food truck onsite&nbsp\;and serving refreshments!&nbsp\;We hope you will join us in celebration!</span></strong><br />\n&nbsp\;</p>\n\n<p><br />\n&nbsp\;<br />\n<em><strong><span style="text-transform:uppercase\;letter-spacing:1.5pt\;"><span style="color:black\;"><span style="font-family:helvetica\,sans-serif\;"><span style="font-size:7.0pt\;">*IT IS POSSIBLE AT ANY OF OUR CHAMBER EVENTS WE WILL BE TAKING PHOTOS AND/OR VIDEOING\, AND THAT YOU MAY BE FEATURED IN THESE PHOTOS/VIDEOS. THESE PHOTOS/VIDEOS ARE FOR THE USE OF THE VENICE AREA CHAMBER OF COMMERCE ONLY AND COULD POSSIBLY BE FEATURED ON OUR SOCIAL MEDIA ACCOUNTS\, ON OUR WEBSITE\, AND/OR IN THE CHAMBER&rsquo\;S ADVERTISEMENTS AND PROMOTIONAL MATERIALS.</span></span></span></span></strong></em><br />\n&nbsp\;</p>\n
LOCATION:Venice Area Chamber of Commerce 597 S Tamiami Trail Venice\, FL 34293
UID:e.3379.6654
SEQUENCE:3
DTSTAMP:20260420T083839Z
URL:https://business.venicechamber.com/events/details/ribbon-cutting-for-parise-s-espresso-coffee-cannoli-bar-december-13-2022-6654
END:VEVENT

END:VCALENDAR
