BEGIN:VCALENDAR
VERSION:2.0
PRODID:-//ChamberMaster//Event Calendar 2.0//EN
METHOD:PUBLISH
X-PUBLISHED-TTL:P3D
REFRESH-INTERVAL:P3D
CALSCALE:GREGORIAN
BEGIN:VEVENT
DTSTART:20190321T203000Z
DTEND:20190321T213000Z
X-MICROSOFT-CDO-ALLDAYEVENT:FALSE
SUMMARY:Ribbon Cutting Factory Off Lease Auto Brokers March 21\, 2019
DESCRIPTION:Ribbon Cutting at Factory Off Lease Auto Brokers
X-ALT-DESC;FMTTYPE=text/html:<span style="display: inline !important\; float: none\; background-color: rgb(255\, 255\, 255)\; color: rgb(51\, 51\, 51)\; font-family: sans-serif\,Arial\,Verdana\,&quot\;Trebuchet MS&quot\;\; font-size: 18px\; font-style: normal\; font-variant: normal\; font-weight: 400\; letter-spacing: normal\; orphans: 2\; text-align: left\; text-decoration: none\; text-indent: 0px\; text-transform: none\; -webkit-text-stroke-width: 0px\; white-space: normal\; word-spacing: 0px\;">Ribbon Cutting at Factory Off Lease Auto Brokers</span><br />\n&nbsp\;
LOCATION:Factory Off Lease Auto Brokers 1041 US 41 Bypass S Venice FL 34285 *Located in Venice Isle Plaza next to Kia Dealership
UID:e.3379.1290
SEQUENCE:3
DTSTAMP:20260425T204623Z
URL:https://business.venicechamber.com/events/details/ribbon-cutting-factory-off-lease-auto-brokers-march-21-2019-1290
END:VEVENT

END:VCALENDAR
