BEGIN:VCALENDAR
VERSION:2.0
PRODID:-//ChamberMaster//Event Calendar 2.0//EN
METHOD:PUBLISH
X-PUBLISHED-TTL:P3D
REFRESH-INTERVAL:P3D
CALSCALE:GREGORIAN
BEGIN:VEVENT
DTSTART:20191203T210000Z
DTEND:20191203T220000Z
X-MICROSOFT-CDO-ALLDAYEVENT:FALSE
SUMMARY:Ribbon Cutting Edible Arrangements December 3\, 2019
DESCRIPTION:Please join us for a Ribbon Cutting at Edible Arrangements of Venice!
X-ALT-DESC;FMTTYPE=text/html:<span style="font-size:18px\;">Please join us for a Ribbon Cutting at Edible Arrangements of Venice!</span><br />\n&nbsp\;
LOCATION:Edible Arrangements of Venice 1435 E. Venice Avenue Suite #103 Venice\, FL 34292
UID:e.3379.1701
SEQUENCE:3
DTSTAMP:20260425T043147Z
URL:https://business.venicechamber.com/events/details/ribbon-cutting-edible-arrangements-december-3-2019-1701
END:VEVENT

END:VCALENDAR
