BEGIN:VCALENDAR
VERSION:2.0
PRODID:-//ChamberMaster//Event Calendar 2.0//EN
METHOD:PUBLISH
X-PUBLISHED-TTL:P3D
REFRESH-INTERVAL:P3D
CALSCALE:GREGORIAN
BEGIN:VEVENT
DTSTART:20220721T200000Z
DTEND:20220721T210000Z
X-MICROSOFT-CDO-ALLDAYEVENT:FALSE
SUMMARY:Ribbon Cutting Diversified Materials Specialist July 21\, 2022
DESCRIPTION:Please join us for a Ribbon Cutting for Diversified Materials Specialist Inc.\n\n\n\n"As we help elevate the world and technologically evolve by manufacturing fiber optic connectivity solutions\, we keep our feet remain on the ground.  With 50% Female employees and 65% minorities working in our company\, we are the most diverse workplaces in Sarasota County\, the reason we have won the SMHRA Diversity Award 2021.  Last year\, we had a turnover rate of 4.87%\, significantly lower than the manufacturing average of 39.90% and national average of 47.20%.  As our company thrives\, our employees burgeon."\n\n\n\nRefreshments will be served.  We hope you will join us in the celebration!  \n\n\n\nThe Venice Area Chamber of Commerce is committed to the health and safety of its members.  We are monitoring and following the latest direction as outlined by local\, state\, and federal officials.  We recommend that all attendees review and follow the latest guidance on the COVID-19 pandemic from the Centers for Disease Control and Prevention (CDC):  https://www.cdc.gov/coronavirus/2019-ncov/index.html\n\n\n\n \n\n*IT IS POSSIBLE AT ANY OF OUR CHAMBER EVENTS WE WILL BE TAKING PHOTOS AND/OR VIDEOING\, AND THAT YOU MAY BE FEATURED IN THESE PHOTOS/VIDEOS. THESE PHOTOS/VIDEOS ARE FOR THE USE OF THE VENICE AREA CHAMBER OF COMMERCE ONLY AND COULD POSSIBLY BE FEATURED ON OUR SOCIAL MEDIA ACCOUNTS\, ON OUR WEBSITE\, AND/OR IN THE CHAMBER'S ADVERTISEMENTS AND PROMOTIONAL MATERIALS.
X-ALT-DESC;FMTTYPE=text/html:<span style="font-size:18px\;"><span style="font-family:comic sans ms\;"><strong>Please join us for a Ribbon Cutting for Diversified Materials Specialist Inc.</strong></span></span><br />\n<br />\n<em><span style="font-size:18px\;">&quot\;As we help elevate the world and technologically evolve by manufacturing fiber optic connectivity solutions\, we keep our feet remain on the ground.&nbsp\; With 50% Female employees and 65% minorities working in our company\, we are the most diverse workplaces in Sarasota County\, the reason we have won the SMHRA Diversity Award 2021.&nbsp\; Last year\, we had a turnover rate of 4.87%\, significantly lower than the manufacturing average of 39.90% and national average of 47.20%.&nbsp\; As our company thrives\, our employees burgeon.&quot\;</span></em><br />\n<br />\n<strong style="font-family: &quot\;comic sans ms&quot\;\; font-size: 18px\;">Refreshments will be served.&nbsp\; We hope you will join us in the celebration!&nbsp\;&nbsp\;</strong><br />\n<br />\n<strong><span style="font-family:calibri\,sans-serif\;"><span style="font-size:12.0pt\;">The Venice Area Chamber of Commerce is committed to the health and safety of its members.&nbsp\; We are monitoring and following the latest&nbsp\;direction as outlined&nbsp\;by local\, state\, and federal officials.&nbsp\; We recommend that all attendees review and follow the latest guidance on the COVID-19 pandemic from the Centers for Disease Control and Prevention (CDC):&nbsp\;&nbsp\;<u><a href="https://www.cdc.gov/coronavirus/2019-ncov/index.html"><span style="font-weight:normal\;">https://www.cdc.gov/coronavirus/2019-ncov/index.html</span></a></u></span></span></strong><br />\n<br />\n&nbsp\;<br />\n<em><strong><span style="text-transform:uppercase\;letter-spacing:1.5pt\;"><span style="color:black\;"><span style="font-family:helvetica\,sans-serif\;"><span style="font-size:7.0pt\;">*IT IS POSSIBLE AT ANY OF OUR CHAMBER EVENTS WE WILL BE TAKING PHOTOS AND/OR VIDEOING\, AND THAT YOU MAY BE FEATURED IN THESE PHOTOS/VIDEOS. THESE PHOTOS/VIDEOS ARE FOR THE USE OF THE VENICE AREA CHAMBER OF COMMERCE ONLY AND COULD POSSIBLY BE FEATURED ON OUR SOCIAL MEDIA ACCOUNTS\, ON OUR WEBSITE\, AND/OR IN THE CHAMBER&rsquo\;S ADVERTISEMENTS AND PROMOTIONAL MATERIALS.</span></span></span></span></strong></em><br />\n&nbsp\;
LOCATION:Diversified Materials Specialist Inc. 105 Triple Diamond Blvd. Unit 101 Venice FL 34275
UID:e.3379.6607
SEQUENCE:3
DTSTAMP:20260420T003909Z
URL:https://business.venicechamber.com/events/details/ribbon-cutting-diversified-materials-specialist-july-21-2022-6607
END:VEVENT

END:VCALENDAR
