BEGIN:VCALENDAR
VERSION:2.0
PRODID:-//ChamberMaster//Event Calendar 2.0//EN
METHOD:PUBLISH
X-PUBLISHED-TTL:P3D
REFRESH-INTERVAL:P3D
CALSCALE:GREGORIAN
BEGIN:VEVENT
DTSTART:20181217T211500Z
DTEND:20181217T220000Z
X-MICROSOFT-CDO-ALLDAYEVENT:FALSE
SUMMARY:Ribbon Cutting December 13\, 2018
DESCRIPTION:Ribbon Cutting at Sky Family YMCA Sunshine Education Academy\n\nCome tour\, enjoy light bites and drinks
X-ALT-DESC;FMTTYPE=text/html:<span style="font-size:18px\;">Ribbon Cutting at Sky Family YMCA Sunshine Education Academy<br />\nCome tour\, enjoy light bites and drinks</span>
LOCATION:Sky Family YMCA Sunshine Education Academy 701 Center Road Venice FL 34293
UID:e.3379.1101
SEQUENCE:3
DTSTAMP:20260426T000606Z
URL:https://business.venicechamber.com/events/details/ribbon-cutting-december-13-2018-1101
END:VEVENT

END:VCALENDAR
