BEGIN:VCALENDAR
VERSION:2.0
PRODID:-//ChamberMaster//Event Calendar 2.0//EN
METHOD:PUBLISH
X-PUBLISHED-TTL:P3D
REFRESH-INTERVAL:P3D
CALSCALE:GREGORIAN
BEGIN:VEVENT
DTSTART:20190617T200000Z
DTEND:20190617T210000Z
X-MICROSOFT-CDO-ALLDAYEVENT:FALSE
SUMMARY:Ribbon Cutting Congressman Greg Steube June 17\, 2019
DESCRIPTION:Ribbon Cutting at Venice Office for Congressman Greg Steube
X-ALT-DESC;FMTTYPE=text/html:<span style="font-size:18px\;">Ribbon Cutting at Venice Office for Congressman Greg Steube</span><br />\n&nbsp\;
LOCATION:Venice Office Greg Steube 871 Venetia Bay Blvd. Venice FL 34285
UID:e.3379.1451
SEQUENCE:3
DTSTAMP:20260425T140336Z
URL:https://business.venicechamber.com/events/details/ribbon-cutting-congressman-greg-steube-june-17-2019-1451
END:VEVENT

END:VCALENDAR
