BEGIN:VCALENDAR
VERSION:2.0
PRODID:-//ChamberMaster//Event Calendar 2.0//EN
METHOD:PUBLISH
X-PUBLISHED-TTL:P3D
REFRESH-INTERVAL:P3D
CALSCALE:GREGORIAN
BEGIN:VEVENT
DTSTART:20190327T203000Z
DTEND:20190327T213000Z
X-MICROSOFT-CDO-ALLDAYEVENT:FALSE
SUMMARY:Ribbon Cutting Century 21 Schmidt Real Estate March 27\, 2019
DESCRIPTION:Ribbon Cutting at Century 21 Schmidt Real Estate
X-ALT-DESC;FMTTYPE=text/html:<span style="font-size:18px\;">Ribbon Cutting at Century 21 Schmidt Real Estate</span><br />\n&nbsp\;
LOCATION:Century 21 Schmidt Real Estate 100 West Venice Ave Venice FL 34285
UID:e.3379.1291
SEQUENCE:3
DTSTAMP:20260425T185608Z
URL:https://business.venicechamber.com/events/details/ribbon-cutting-century-21-schmidt-real-estate-march-27-2019-1291
END:VEVENT

END:VCALENDAR
