BEGIN:VCALENDAR
VERSION:2.0
PRODID:-//ChamberMaster//Event Calendar 2.0//EN
METHOD:PUBLISH
X-PUBLISHED-TTL:P3D
REFRESH-INTERVAL:P3D
CALSCALE:GREGORIAN
BEGIN:VEVENT
DTSTART:20190131T220000Z
DTEND:20190131T230000Z
X-MICROSOFT-CDO-ALLDAYEVENT:FALSE
SUMMARY:Ribbon Cutting Cafe Venice January 31\, 2019
DESCRIPTION:Ribbon Cutting at Cafe Venice\n\nJoin us and visit the new location while enjoying light bites \n\niheart Media radio station 107.9 Happy Hour from 5:30-7:00 pm
X-ALT-DESC;FMTTYPE=text/html:<span style="font-size:18px\;">Ribbon Cutting at Cafe Venice<br />\nJoin us and visit the new location while enjoying light bites&nbsp\;<br />\niheart Media radio station 107.9 Happy Hour from 5:30-7:00 pm</span>
LOCATION:Cafe Venice 101 West Venice Avenue Venice FL 34293
UID:e.3379.1094
SEQUENCE:3
DTSTAMP:20260425T223437Z
URL:https://business.venicechamber.com/events/details/ribbon-cutting-cafe-venice-january-31-2019-1094
END:VEVENT

END:VCALENDAR
