BEGIN:VCALENDAR
VERSION:2.0
PRODID:-//ChamberMaster//Event Calendar 2.0//EN
METHOD:PUBLISH
X-PUBLISHED-TTL:P3D
REFRESH-INTERVAL:P3D
CALSCALE:GREGORIAN
BEGIN:VEVENT
DTSTART:20220202T210000Z
DTEND:20220202T220000Z
X-MICROSOFT-CDO-ALLDAYEVENT:FALSE
SUMMARY:Ribbon Cutting Big Bam Electronic Bikes February 2\, 2022
DESCRIPTION:Please join us for a Ribbon Cutting at Big Bam Electronic Bikes!  \n\n\n\nWe hope you will help welcome a new member and check out why they are the "Happiest Place in Venice!"\n\n\n\nRefreshments will be served!   \nWe will be following CDC Guidelines.\n\n \n\n*IT IS POSSIBLE AT ANY OF OUR CHAMBER EVENTS WE WILL BE TAKING PHOTOS AND/OR VIDEOING\, AND THAT YOU MAY BE FEATURED IN THESE PHOTOS/VIDEOS. THESE PHOTOS/VIDEOS ARE FOR THE USE OF THE VENICE AREA CHAMBER OF COMMERCE ONLY AND COULD POSSIBLY BE FEATURED ON OUR SOCIAL MEDIA ACCOUNTS\, ON OUR WEBSITE\, AND/OR IN THE CHAMBERS ADVERTISEMENTS AND PROMOTIONAL MATERIALS.
X-ALT-DESC;FMTTYPE=text/html:<strong><span style="font-size:18px\;">Please join us for a Ribbon Cutting at Big Bam Electronic Bikes!&nbsp\;&nbsp\;<br />\n<br />\nWe hope you will help welcome a new member and check out why they are the &quot\;Happiest Place in Venice!&quot\;<br />\n<br />\nRefreshments will be served!&nbsp\; &nbsp\;</span></strong>\n<p><strong><span style="font-size: 18px\;">We will be following CDC Guidelines.</span></strong><br />\n<span style="font-size: 18px\;">&nbsp\;</span><br />\n<em><span style="font-size: 9px\;"><span style="color: rgb(0\, 0\, 0)\; font-family: Montserrat\, Helvetica\, Arial\, Lucida\, sans-serif\; font-weight: 700\; letter-spacing: 2px\; text-align: center\; text-transform: uppercase\;">*IT IS POSSIBLE AT ANY OF OUR CHAMBER EVENTS WE WILL BE TAKING PHOTOS AND/OR VIDEOING\, AND THAT YOU MAY BE FEATURED IN THESE PHOTOS/VIDEOS. THESE PHOTOS/VIDEOS ARE FOR THE USE OF THE VENICE AREA CHAMBER OF COMMERCE ONLY AND COULD POSSIBLY BE FEATURED ON OUR SOCIAL MEDIA ACCOUNTS\, ON OUR WEBSITE\, AND/OR IN THE CHAMBERS ADVERTISEMENTS AND PROMOTIONAL MATERIALS.</span></span></em></p>\n\n<p>&nbsp\;</p>\n
LOCATION:Big Bam Electronic Bikes 412 E. Venice Ave. Venice FL 34285
UID:e.3379.6464
SEQUENCE:3
DTSTAMP:20260419T182423Z
URL:https://business.venicechamber.com/events/details/ribbon-cutting-big-bam-electronic-bikes-february-2-2022-6464
END:VEVENT

END:VCALENDAR
