BEGIN:VCALENDAR
VERSION:2.0
PRODID:-//ChamberMaster//Event Calendar 2.0//EN
METHOD:PUBLISH
X-PUBLISHED-TTL:P3D
REFRESH-INTERVAL:P3D
CALSCALE:GREGORIAN
BEGIN:VEVENT
DTSTART:20200226T140000Z
DTEND:20200226T150000Z
X-MICROSOFT-CDO-ALLDAYEVENT:FALSE
SUMMARY:Ribbon Cutting Beach City Home Services February 26\, 2020
DESCRIPTION:Please join us for a Ribbon Cutting for Beach City Home Services!
X-ALT-DESC;FMTTYPE=text/html:<span style="font-size:18px\;">Please join us for a Ribbon Cutting for Beach City Home Services!</span><br />\n&nbsp\;
LOCATION:Beach City Home Services RIBBON CUTTING AT THE VENICE AREA CHAMBER OF COMMERCE 597 Tamiami Trail Venice FL 34285
UID:e.3379.1880
SEQUENCE:3
DTSTAMP:20260425T024216Z
URL:https://business.venicechamber.com/events/details/ribbon-cutting-beach-city-home-services-february-26-2020-1880
END:VEVENT

END:VCALENDAR
