BEGIN:VCALENDAR
VERSION:2.0
PRODID:-//ChamberMaster//Event Calendar 2.0//EN
METHOD:PUBLISH
X-PUBLISHED-TTL:P3D
REFRESH-INTERVAL:P3D
CALSCALE:GREGORIAN
BEGIN:VEVENT
DTSTART:20260203T140000Z
DTEND:20260203T150000Z
X-MICROSOFT-CDO-ALLDAYEVENT:FALSE
SUMMARY:Ribbon Cutting Be Amazing with AL February 3\, 2026
DESCRIPTION:Be Amazing With AL focuses on customer happiness and creates customized care routines best suited to her clients' needs and lifestyle. Her dedication to personalized service sets her apart and makes every experience exceptional.\n\nDiscover how Be Amazing With AL is making a difference in the beauty world!\n\n\n\nEnjoy complimentary refreshments and light bites.\n\nAs a courtesy to our host\, if you have registered for this event and can no longer attend\, please let us know by January 30\, 2026 as reservations have been made in your name.\n\n\n\nNotice of Photography and Videography\n\n*IT IS POSSIBLE AT ANY OF OUR CHAMBER EVENTS WE WILL BE TAKING PHOTOS AND/OR VIDEOING\, AND THAT YOU MAY BE FEATURED IN THESE PHOTOS/VIDEOS. THESE PHOTOS/VIDEOS ARE FOR THE USE OF THE VENICE AREA CHAMBER OF COMMERCE ONLY AND COULD POSSIBLY BE FEATURED ON OUR SOCIAL MEDIA ACCOUNTS\, ON OUR WEBSITE\, AND/OR IN THE CHAMBER'S ADVERTISEMENTS AND PROMOTIONAL MATERIALS. IF YOU DO NOT AGREE\, PLEASE DO NOT ENTER THE EVENT PREMISES. THANK YOU.
X-ALT-DESC;FMTTYPE=text/html:<div font-size:="" line-height:="" segoe="" style="color: rgb(0\, 0\, 0)\; font-family: ">\n<p><span style="font-size:16px\;"><span style="font-family:times new roman\;">Be Amazing With AL&nbsp\;focuses on customer happiness and creates customized care routines best suited to her clients&rsquo\; needs and lifestyle. Her dedication to personalized service sets her apart and makes every experience exceptional.</span></span></p>\n\n<p><span style="font-family:times new roman\;"><span style="font-size:16px\;">Discover how </span></span><span style="font-family: &quot\;times new roman&quot\;\; font-size: 16px\;">Be A</span><span style="font-family: &quot\;times new roman&quot\;\; font-size: 16px\;">mazing W</span><span style="font-family: &quot\;times new roman&quot\;\; font-size: 16px\;">ith AL</span><span style="font-family:times new roman\;"><span style="font-size:16px\;">&nbsp\;is making a difference in the beauty world!<br />\n<br />\n<span font-size:="" new="" style="box-sizing: border-box\;" times="">Enjoy complimentary refreshments and light bites.</span></span><br style="box-sizing: border-box\; color: rgb(85\, 85\, 85)\; font-family: Montserrat\, sans-serif\; font-size: 16px\; background-color: rgb(243\, 243\, 243)\;" />\n<span style="font-size:11px\;"><span font-size:="" new="" style="box-sizing: border-box\;" times="">As a courtesy&nbsp\;to our host\, if you have registered for this event and can no longer attend\, please let us know by January 30\, 2026 as reservations have been made in your name.<br style="box-sizing: border-box\;" />\n<br style="box-sizing: border-box\;" />\n<em style="box-sizing: border-box\;"><u style="box-sizing: border-box\;">Notice of Photography and Videography</u></em><br style="box-sizing: border-box\;" />\n<em style="box-sizing: border-box\;">*IT IS POSSIBLE AT ANY OF OUR CHAMBER EVENTS WE WILL BE TAKING PHOTOS AND/OR VIDEOING\, AND THAT YOU MAY BE FEATURED IN THESE PHOTOS/VIDEOS. THESE PHOTOS/VIDEOS ARE FOR THE USE OF THE VENICE AREA CHAMBER OF COMMERCE ONLY AND COULD POSSIBLY BE FEATURED ON OUR SOCIAL MEDIA ACCOUNTS\, ON OUR WEBSITE\, AND/OR IN THE CHAMBER&#39\;S ADVERTISEMENTS AND PROMOTIONAL MATERIALS. IF YOU DO NOT AGREE\, PLEASE DO NOT ENTER THE EVENT PREMISES. THANK YOU.</em></span></span></span></p>\n</div>\n
LOCATION:Be Amazing With AL 401 Johnson Lane Ste 104 Venice\, FL 34285
UID:e.3379.9109
SEQUENCE:3
DTSTAMP:20260423T062706Z
URL:https://business.venicechamber.com/events/details/ribbon-cutting-be-amazing-with-al-february-3-2026-9109
END:VEVENT

END:VCALENDAR
