BEGIN:VCALENDAR
VERSION:2.0
PRODID:-//ChamberMaster//Event Calendar 2.0//EN
METHOD:PUBLISH
X-PUBLISHED-TTL:P3D
REFRESH-INTERVAL:P3D
CALSCALE:GREGORIAN
BEGIN:VEVENT
DTSTART:20190812T203000Z
DTEND:20190812T213000Z
X-MICROSOFT-CDO-ALLDAYEVENT:FALSE
SUMMARY:Ribbon Cutting Avenue Hair Design August 12\, 2019
DESCRIPTION:Ribbon Cutting at Avenue Hair Design
X-ALT-DESC;FMTTYPE=text/html:<span style="font-size:18px\;">Ribbon Cutting at&nbsp\;Avenue Hair Design&nbsp\;</span><br />\n&nbsp\;
LOCATION:Avenue Hair Design 1211 U.S. 41 Bypass S Venice FL 34285
UID:e.3379.1659
SEQUENCE:3
DTSTAMP:20260425T124447Z
URL:https://business.venicechamber.com/events/details/ribbon-cutting-avenue-hair-design-august-12-2019-1659
END:VEVENT

END:VCALENDAR
