BEGIN:VCALENDAR
VERSION:2.0
PRODID:-//ChamberMaster//Event Calendar 2.0//EN
METHOD:PUBLISH
X-PUBLISHED-TTL:P3D
REFRESH-INTERVAL:P3D
CALSCALE:GREGORIAN
BEGIN:VEVENT
DTSTART:20241211T140000Z
DTEND:20241211T150000Z
X-MICROSOFT-CDO-ALLDAYEVENT:FALSE
SUMMARY:Ribbon Cutting American Realty of Venice December 11\, 2024
DESCRIPTION:Property Management\, Rentals & Sales all under one roof!\n\n60 years in business!\n\nOne of first Chamber Members!\n\n\n\nAs a courtesy to our host\, if you have registered for this event and can no longer attend\, please let us know as reservations have been made in your name.\n\n\n\nRefreshments will be served.\n\nNotice of Photography and Videography\n\nPlease be aware that photographs and/or videos will be taken during our Chamber events. You may be featured in these photos/videos. These materials are intended solely for the use of the Venice Area Chamber of Commerce and may be featured on our social media accounts\, website\, and/or in the Chamber's advertisements and promotional materials.
X-ALT-DESC;FMTTYPE=text/html:<p style="box-sizing: inherit\; -webkit-font-smoothing: antialiased\; margin: 0px 0px 15px\; padding: 0px\; border: 0px\; font-variant-numeric: inherit\; font-variant-east-asian: inherit\; font-variant-alternates: inherit\; font-variant-position: inherit\; font-stretch: inherit\; font-size: 16px\; line-height: inherit\; font-family: Poppins\, -apple-system\, BlinkMacSystemFont\, &quot\;Segoe UI&quot\;\, Roboto\, Oxygen-Sans\, Ubuntu\, Cantarell\, &quot\;Helvetica Neue&quot\;\, sans-serif\; font-optical-sizing: inherit\; font-kerning: inherit\; font-feature-settings: inherit\; font-variation-settings: inherit\; vertical-align: baseline\; color: rgb(98\, 98\, 98)\; background-color: rgba(255\, 255\, 255\, 0.6)\;"><span style="color:#000000\;"><strong>Property Management\, Rentals &amp\; Sales all under one roof!<br />\n60 years in business!<br />\nOne of first Chamber Members!</strong></span><br />\n<br />\n<span style="color:#000000\;"><strong>As a courtesy&nbsp\;to our host\, if you have registered for this event and can no longer attend\, please let us know as reservations have been made in your name.<br />\n<br />\nRefreshments will be served.</strong></span></p>\n\n<p style="padding: 0px\; margin: 8px 0px 0px\; word-break: break-word\; font-size: 14px\; line-height: var(--cib-type-body1-line-height)\; font-variation-settings: var(--cib-type-body1-font-variation-settings)\; color: rgba(0\, 0\, 0\, 0.894)\; font-family: SegoeUIVariable\, SegoeUI\, &quot\;Segoe UI&quot\;\, &quot\;Helvetica Neue&quot\;\, Helvetica\, &quot\;Microsoft YaHei&quot\;\, &quot\;Meiryo UI&quot\;\, Meiryo\, &quot\;Arial Unicode MS&quot\;\, sans-serif\; background-color: rgb(243\, 243\, 243)\;"><em>Notice of Photography and Videography</em></p>\n\n<p style="padding: 0px\; margin: 8px 0px 0px\; word-break: break-word\; font-size: 14px\; line-height: var(--cib-type-body1-line-height)\; font-variation-settings: var(--cib-type-body1-font-variation-settings)\; color: rgba(0\, 0\, 0\, 0.894)\; font-family: SegoeUIVariable\, SegoeUI\, &quot\;Segoe UI&quot\;\, &quot\;Helvetica Neue&quot\;\, Helvetica\, &quot\;Microsoft YaHei&quot\;\, &quot\;Meiryo UI&quot\;\, Meiryo\, &quot\;Arial Unicode MS&quot\;\, sans-serif\; background-color: rgb(243\, 243\, 243)\;"><em>Please be aware that photographs and/or videos will be taken during our Chamber events. You may be featured in these photos/videos. These materials are intended solely for the use of the Venice Area Chamber of Commerce and may be featured on our social media accounts\, website\, and/or in the Chamber&rsquo\;s advertisements and promotional materials.</em></p>\n\n<div>&nbsp\;</div>\n
LOCATION:American Realty of Venice 700 W Venice Ave Venice\, FL 34285
UID:e.3379.8511
SEQUENCE:3
DTSTAMP:20260424T025838Z
URL:https://business.venicechamber.com/events/details/ribbon-cutting-american-realty-of-venice-december-11-2024-8511
END:VEVENT

END:VCALENDAR
