BEGIN:VCALENDAR
VERSION:2.0
PRODID:-//ChamberMaster//Event Calendar 2.0//EN
METHOD:PUBLISH
X-PUBLISHED-TTL:P3D
REFRESH-INTERVAL:P3D
CALSCALE:GREGORIAN
BEGIN:VEVENT
DTSTART:20200131T210000Z
DTEND:20200131T220000Z
X-MICROSOFT-CDO-ALLDAYEVENT:FALSE
SUMMARY:Ribbon Cutting A Better Solution of Venice January 31\, 2020
DESCRIPTION:Please join us for a Ribbon Cutting at A Better Solution of Venice and celebrate their NEW LOCATION!
X-ALT-DESC;FMTTYPE=text/html:<span style="font-size:18px\;">Please join us for a Ribbon Cutting at A Better Solution of Venice and celebrate their NEW LOCATION!</span><br />\n&nbsp\;
LOCATION:A Better Solution of Venice 1500 E Venice Avenue Suite 301 Venice FL 34292
UID:e.3379.1868
SEQUENCE:3
DTSTAMP:20260425T025158Z
URL:https://business.venicechamber.com/events/details/ribbon-cutting-a-better-solution-of-venice-january-31-2020-1868
END:VEVENT

END:VCALENDAR
