BEGIN:VCALENDAR
VERSION:2.0
PRODID:-//ChamberMaster//Event Calendar 2.0//EN
METHOD:PUBLISH
X-PUBLISHED-TTL:P3D
REFRESH-INTERVAL:P3D
CALSCALE:GREGORIAN
BEGIN:VEVENT
DTSTART:20200515T150000Z
DTEND:20200515T160000Z
X-MICROSOFT-CDO-ALLDAYEVENT:FALSE
SUMMARY:Recipe of Success for your Business
DESCRIPTION:A One Hour Interactive Workshop presented by Lori Moen\, Catalyst Group Executive Coaching & Roundtables.  Time to define your new normal - create your unique recipe for Business Success.  Use this pause in business as a pivot point - renew - refresh - rediscover your answer to What does success mean to you?
X-ALT-DESC;FMTTYPE=text/html:<span style="font-size:18px\;"><strong>A One Hour Interactive Workshop presented by Lori Moen\, Catalyst Group Executive Coaching &amp\; Roundtables.&nbsp\;&nbsp\;Time to define your new normal - create your unique recipe for Business Success.&nbsp\; Use this pause in business as a pivot point - renew - refresh - rediscover your answer to <span style="color:#FF0000\;"><em>What does success mean to you?</em></span>&nbsp\;&nbsp\;</strong></span><br />\n<br />\n&nbsp\;
LOCATION:Venice Area Chamber of Commerce 597 Tamiami Trail S Venice FL 34285
UID:e.3379.1907
SEQUENCE:3
DTSTAMP:20260424T204417Z
URL:https://business.venicechamber.com/events/details/recipe-of-success-for-your-business-1907
END:VEVENT

END:VCALENDAR
