BEGIN:VCALENDAR
VERSION:2.0
PRODID:-//ChamberMaster//Event Calendar 2.0//EN
METHOD:PUBLISH
X-PUBLISHED-TTL:P3D
REFRESH-INTERVAL:P3D
CALSCALE:GREGORIAN
BEGIN:VEVENT
DTSTART:20230120T150000Z
DTEND:20230120T190000Z
X-MICROSOFT-CDO-ALLDAYEVENT:FALSE
SUMMARY:Non-Profit Rally 2023
DESCRIPTION:Are you interested in learning more about the many non-profit organizations serving the greater Venice area?  Come explore the many opportunities there are to give of your time\, talent\, and/or treasure and support non-profits.\n\n\n\n\n\n\n\n\n\nMedia Sponsor:  Venice Gondolier Sun
X-ALT-DESC;FMTTYPE=text/html:<span style="font-size:16px\;"><strong>Are you interested in learning more about the many non-profit organizations serving the greater Venice area?&nbsp\; Come explore the many opportunities there are to give of your time\, talent\, and/or treasure and support non-profits.</strong></span><br />\n<br />\n<br />\n<br />\n<br />\n<span style="font-size:16px\;"><strong>Media Sponsor:&nbsp\; Venice Gondolier Sun</strong></span>
LOCATION:Venice Area Chamber of Commerce 597 Tamiami Trail S Venice\, FL 34285 THIS EVENT WILL BE HELD IN THE CHAMBER PARKING LOT.
UID:e.3379.6624
SEQUENCE:3
DTSTAMP:20260420T115055Z
URL:https://business.venicechamber.com/events/details/non-profit-rally-2023-6624
END:VEVENT

END:VCALENDAR
