BEGIN:VCALENDAR
VERSION:2.0
PRODID:-//ChamberMaster//Event Calendar 2.0//EN
METHOD:PUBLISH
X-PUBLISHED-TTL:P3D
REFRESH-INTERVAL:P3D
CALSCALE:GREGORIAN
BEGIN:VEVENT
DTSTART:20220121T150000Z
DTEND:20220121T190000Z
X-MICROSOFT-CDO-ALLDAYEVENT:FALSE
SUMMARY:Non-Profit Rally 2022
DESCRIPTION:Are you interested in learning more about the many non-profit organizations serving the greater Venice area?  Come explore the many opportunities there are to give of your time\, talent\, and/or treasure and support non-profits.\n\n\n\nParticipating organizations include:\n\nBig Brothers Big Sisters of the Sun Coast\n\nBoys & Girls Clubs of Sarasota and DeSoto Counties\n\nCenterPlace Health\n\nDollars for Mammograms\n\nEarly Learning Coalition of Sarasota County\n\nElephant's Trunk Thrift Store\n\nFamily Promise of South Sarasota County\n\nFriends of Oscar Scherer Park\n\nFriends of Sarasota County Parks\n\nHabitat for Humanity South Sarasota County\n\nHVV Medical Guardian\n\nKiwanis Club of Venice\n\nLighthouse Vision Loss Education Center\n\nLoveland Center\n\nNAMI Sarasota and Manatee Counties\n\nRestore Global - SRQ Office\n\nSCORE Manasota\n\nSenior Friendship Centers\n\nSertoma Club of Venice\n\nSTART of SC\n\nThe Long Walk Home\n\nThe Twig\n\nThe Venice Symphony\n\nthe WareHouse of Venice\n\nTidewell Hospice\n\nUnited States Coast Guard Auxiliary Flotilla 86\n\nVenice Area Beautification\n\nVenice Area Chamber of Commerce Foundation\n\nVenice Area Garden Club\n\nVenice Area Historical Society\n\nVenice Art Center\n\nVenice Musicale\n\nVenice-Nokomis Woman's Club\n\nVisit Sarasota County\n\nWildlife Center of Venice\n\nWomen's Resource Center\n\nWomen's Sertoma Club of Venice\n\n   and more!!!\n\n\n\nIn addition\, British Open Pub-2-Go and Auntie Anne's Pretzel Truck will be onsite throughout the event.\n\n\n\n\n\n\n\n\n\nMedia Sponsor:  Venice Gondolier Sun
X-ALT-DESC;FMTTYPE=text/html:<span style="font-size:16px\;"><strong>Are you interested in learning more about the many non-profit organizations serving the greater Venice area?&nbsp\; Come explore the many opportunities there are to give of your time\, talent\, and/or treasure and support non-profits.<br />\n<br />\n<u>Participating organizations include</u>:<br />\nBig Brothers Big Sisters of the Sun Coast<br />\nBoys &amp\; Girls Clubs of Sarasota and DeSoto Counties<br />\nCenterPlace Health<br />\nDollars for Mammograms<br />\nEarly Learning Coalition of Sarasota County<br />\nElephant&#39\;s Trunk Thrift Store<br />\nFamily Promise of South Sarasota County<br />\nFriends of Oscar Scherer Park<br />\nFriends of Sarasota County Parks<br />\nHabitat for Humanity South Sarasota County<br />\nHVV Medical Guardian<br />\nKiwanis Club of Venice<br />\nLighthouse Vision Loss Education Center<br />\nLoveland Center<br />\nNAMI Sarasota and Manatee Counties<br />\nRestore Global - SRQ Office<br />\nSCORE Manasota<br />\nSenior Friendship Centers<br />\nSertoma Club of Venice<br />\nSTART of SC<br />\nThe Long Walk Home</strong></span><br />\n<span style="font-size:16px\;"><strong>The Twig<br />\nThe Venice Symphony<br />\nthe WareHouse of Venice<br />\nTidewell Hospice<br />\nUnited States Coast Guard Auxiliary Flotilla 86<br />\nVenice Area Beautification<br />\nVenice Area Chamber of Commerce Foundation<br />\nVenice Area Garden Club<br />\nVenice Area Historical Society<br />\nVenice Art Center<br />\nVenice Musicale<br />\nVenice-Nokomis Woman&#39\;s Club<br />\nVisit Sarasota County<br />\nWildlife Center of Venice<br />\nWomen&#39\;s Resource Center<br />\nWomen&#39\;s Sertoma Club of Venice<br />\n&nbsp\; &nbsp\;and more!!!<br />\n<br />\nIn addition\, British Open Pub-2-Go and Auntie Anne&#39\;s Pretzel Truck will be onsite throughout the event.<br />\n<br />\n<br />\n<br />\n<br />\nMedia Sponsor:&nbsp\; Venice Gondolier Sun</strong></span>
LOCATION:Venice Area Chamber of Commerce 597 Tamiami Trail S Venice\, FL 34285 THIS EVENT WILL BE HELD IN THE CHAMBER PARKING LOT.
UID:e.3379.6505
SEQUENCE:3
DTSTAMP:20260419T144954Z
URL:https://business.venicechamber.com/events/details/non-profit-rally-2022-6505
END:VEVENT

END:VCALENDAR
