BEGIN:VCALENDAR
VERSION:2.0
PRODID:-//ChamberMaster//Event Calendar 2.0//EN
METHOD:PUBLISH
X-PUBLISHED-TTL:P3D
REFRESH-INTERVAL:P3D
CALSCALE:GREGORIAN
BEGIN:VEVENT
DTSTART:20181105T163000Z
DTEND:20181105T180000Z
X-MICROSOFT-CDO-ALLDAYEVENT:FALSE
SUMMARY:Network Lunch - November 2018
DESCRIPTION:Come network with us and give your 30 second commercial while enjoying a delicious lunch!\n\n\n\nLunch Choices:\n\n\n	Greek Salad with Smoked Turkey\n	BBQ Combo (Chef's Choice)\n	Vegetarian Wrap
X-ALT-DESC;FMTTYPE=text/html:<p><span style="font-size:14px\;"><span style="color: rgb(51\, 51\, 51)\; font-family: sans-serif\, Arial\, Verdana\, &quot\;Trebuchet MS&quot\;\; background-color: rgb(255\, 255\, 255)\;">Come network with us and give your <em>30 second commercial </em>while enjoying a delicious lunch!<br />\n<br />\nLunch Choices:</span></span></p>\n\n<ul>\n	<li><span style="font-size:14px\;">Greek Salad with Smoked Turkey</span></li>\n	<li><span style="font-size:14px\;"><span style="color: rgb(51\, 51\, 51)\; font-family: sans-serif\, Arial\, Verdana\, &quot\;Trebuchet MS&quot\;\; background-color: rgb(255\, 255\, 255)\;">BBQ Combo (Chef&#39\;s Choice)</span></span></li>\n	<li><span style="font-size:14px\;"><span style="color: rgb(51\, 51\, 51)\; font-family: sans-serif\, Arial\, Verdana\, &quot\;Trebuchet MS&quot\;\; background-color: rgb(255\, 255\, 255)\;">Vegetarian Wrap&nbsp\;</span></span></li>\n</ul>\n
LOCATION:Snook Haven 5000 E Venice Ave.\, Venice\, FL 34292
UID:e.3379.996
SEQUENCE:3
DTSTAMP:20260426T015308Z
URL:https://business.venicechamber.com/events/details/network-lunch-november-2018-11-05-2018-996
END:VEVENT

END:VCALENDAR
