BEGIN:VCALENDAR
VERSION:2.0
PRODID:-//ChamberMaster//Event Calendar 2.0//EN
METHOD:PUBLISH
X-PUBLISHED-TTL:P3D
REFRESH-INTERVAL:P3D
CALSCALE:GREGORIAN
BEGIN:VEVENT
DTSTART:20200309T153000Z
DTEND:20200309T170000Z
X-MICROSOFT-CDO-ALLDAYEVENT:FALSE
SUMMARY:Network Lunch - March 2020
DESCRIPTION:We hope you will pre-register for the Progressive Lunch!  You get an opportunity to meet everyone in the room while enjoying a delicious lunch!  \n\n\n\nEach attendee will get a house salad\, a wrap and a brownie Catered by Flynn's on Venice Avenue!\n\n\n\nPlease choose one:\n\n\n	Chicken Salad Wrap\n	BLT - Bacon\, Lettuce\, Tomato Wrap\n	Caprese Wrap - Mozzarella\, Tomato\, & Pesto
X-ALT-DESC;FMTTYPE=text/html:<p><span style="font-size:18px\;">We hope you will pre-register for the Progressive Lunch!&nbsp\; You get an opportunity to meet everyone in the room while enjoying a delicious lunch!&nbsp\;&nbsp\;<br />\n<br />\nEach attendee will get a house salad\, a wrap and a brownie Catered by Flynn&#39\;s on Venice Avenue!<br />\n<br />\nPlease choose one:</span></p>\n\n<ul>\n	<li><span style="font-size:18px\;">Chicken Salad Wrap</span></li>\n	<li><span style="font-size:18px\;">BLT - Bacon\, Lettuce\, Tomato Wrap</span></li>\n	<li><span style="font-size:18px\;">Caprese Wrap - Mozzarella\, Tomato\, &amp\; Pesto</span></li>\n</ul>\n\n<p><br />\n&nbsp\;</p>\n
LOCATION:Venice Area Chamber of Commerce 597 Tamiami Trail S. Venice\, FL 34285
UID:e.3379.1690
SEQUENCE:3
DTSTAMP:20260424T233420Z
URL:https://business.venicechamber.com/events/details/network-lunch-march-2020-1690
END:VEVENT

END:VCALENDAR
