BEGIN:VCALENDAR
VERSION:2.0
PRODID:-//ChamberMaster//Event Calendar 2.0//EN
METHOD:PUBLISH
X-PUBLISHED-TTL:P3D
REFRESH-INTERVAL:P3D
CALSCALE:GREGORIAN
BEGIN:VEVENT
DTSTART:20190311T153000Z
DTEND:20190311T170000Z
X-MICROSOFT-CDO-ALLDAYEVENT:FALSE
SUMMARY:Network Lunch - March 2019
DESCRIPTION:Come network with us and give your 30 second commercial while enjoying a delicious buffet lunch including a Salad Station\, Deli Board\, Carving Station and Dessert!
X-ALT-DESC;FMTTYPE=text/html:<p><span style="font-size:18px\;">Come network with us and give your 30 second commercial while enjoying a delicious buffet lunch including a Salad Station\, Deli Board\, Carving Station and Dessert!&nbsp\;</span><br />\n<br />\n<br />\n&nbsp\;</p>\n
LOCATION:The Venice Golf & Country Club 250 Venice Golf Club Drive Venice\, FL 34292
UID:e.3379.1098
SEQUENCE:3
DTSTAMP:20260425T203913Z
URL:https://business.venicechamber.com/events/details/network-lunch-march-2019-1098
END:VEVENT

END:VCALENDAR
