BEGIN:VCALENDAR
VERSION:2.0
PRODID:-//ChamberMaster//Event Calendar 2.0//EN
METHOD:PUBLISH
X-PUBLISHED-TTL:P3D
REFRESH-INTERVAL:P3D
CALSCALE:GREGORIAN
BEGIN:VEVENT
DTSTART:20190610T153000Z
DTEND:20190610T170000Z
X-MICROSOFT-CDO-ALLDAYEVENT:FALSE
SUMMARY:Network Lunch - June 2019
DESCRIPTION:Come and build your network and promote your business!  Give your 30 second commercial while enjoying a delicious lunch!  Sponsorship Opportunity Available! *contact Charleen Myers for more information\n\n\n\n \n\nPlease Choose One:\n\n\n	Caesar Salad with Chicken\n	Ham & Tomato Quiche serviced with fresh fruit\n	Salmon Tossed in a cream pesto sauce served with penne pasta
X-ALT-DESC;FMTTYPE=text/html:<p><span style="font-size:18px\;">Come and build your network and promote your business!&nbsp\; Give your 30 second commercial while enjoying a delicious lunch!&nbsp\; Sponsorship Opportunity Available! <em>*contact Charleen Myers for more information</em></span><br />\n<br />\n&nbsp\;</p>\n\n<p style="color: rgb(51\, 51\, 51)\; font-family: sans-serif\,Arial\,Verdana\,&amp\;quot\;Trebuchet MS&amp\;quot\;\; font-size: 13px\; font-style: normal\; font-variant: normal\; font-weight: 400\; letter-spacing: normal\; orphans: 2\; text-align: left\; text-decoration: none\; text-indent: 0px\; text-transform: none\; -webkit-text-stroke-width: 0px\; white-space: normal\; word-spacing: 0px\;"><span style="font-size: 18px\;">Please Choose One:</span></p>\n\n<ul style="color: rgb(51\, 51\, 51)\; font-family: sans-serif\,Arial\,Verdana\,&amp\;quot\;Trebuchet MS&amp\;quot\;\; font-size: 13px\; font-style: normal\; font-variant: normal\; font-weight: 400\; letter-spacing: normal\; orphans: 2\; padding-bottom: 0px\; padding-left: 40px\; padding-right: 40px\; padding-top: 0px\; text-align: left\; text-decoration: none\; text-indent: 0px\; text-transform: none\; -webkit-text-stroke-width: 0px\; white-space: normal\; word-spacing: 0px\;">\n	<li><font size="4">Caesar Salad with Chicken</font></li>\n	<li><font size="4">Ham &amp\; Tomato Quiche serviced with fresh fruit</font></li>\n	<li><font size="4">Salmon Tossed in a cream pesto sauce served with penne pasta</font></li>\n</ul>\n\n<p style="color: rgb(51\, 51\, 51)\; font-family: sans-serif\,Arial\,Verdana\,&amp\;quot\;Trebuchet MS&amp\;quot\;\; font-size: 13px\; font-style: normal\; font-variant: normal\; font-weight: 400\; letter-spacing: normal\; orphans: 2\; text-align: left\; text-decoration: none\; text-indent: 0px\; text-transform: none\; -webkit-text-stroke-width: 0px\; white-space: normal\; word-spacing: 0px\;">&nbsp\;</p>\n\n<p><br />\n&nbsp\;</p>\n
LOCATION:Flynn's on Venice Ave 133 West Venice Ave. Venice FL 34285
UID:e.3379.1108
SEQUENCE:3
DTSTAMP:20260425T152147Z
URL:https://business.venicechamber.com/events/details/network-lunch-june-2019-1108
END:VEVENT

END:VCALENDAR
