BEGIN:VCALENDAR
VERSION:2.0
PRODID:-//ChamberMaster//Event Calendar 2.0//EN
METHOD:PUBLISH
X-PUBLISHED-TTL:P3D
REFRESH-INTERVAL:P3D
CALSCALE:GREGORIAN
BEGIN:VEVENT
DTSTART:20190708T153000Z
DTEND:20190708T170000Z
X-MICROSOFT-CDO-ALLDAYEVENT:FALSE
SUMMARY:Network Lunch - July 2019
DESCRIPTION:Come and build your network and promote your business!  Give your 30 second commercial while enjoying a delicious lunch!  Sponsorship Opportunity Available! *contact Charleen Myers for more information\n\n\n\nPlease Choose One:\n\n\n	Fish & Chips with Coleslaw\n	Baron's Beef Bomber with Crispers (potato chips)\n	English Cobb Salad with or without Grilled Chicken
X-ALT-DESC;FMTTYPE=text/html:<p><span style="font-size:18px\;">Come and build your network and promote your business!&nbsp\; Give your 30 second commercial while enjoying a delicious lunch!&nbsp\; Sponsorship Opportunity Available! <em>*contact Charleen Myers for more information</em></span><br />\n<br />\n<span style="font-size: 18px\;">Please Choose One:</span></p>\n\n<ul style="font-variant-numeric: normal\; font-variant-east-asian: normal\;">\n	<li><font size="4">Fish &amp\; Chips with Coleslaw</font></li>\n	<li><font size="4">Baron&#39\;s Beef Bomber with Crispers (potato chips)</font></li>\n	<li><font size="4">English Cobb Salad with or without Grilled Chicken</font></li>\n</ul>\n\n<p style="font-variant-numeric: normal\; font-variant-east-asian: normal\;">&nbsp\;</p>\n\n<p>&nbsp\;</p>\n\n<p>&nbsp\;</p>\n
LOCATION:British Open Pub 367 Jacaranda Blvd Venice FL 34293
UID:e.3379.1111
SEQUENCE:3
DTSTAMP:20260425T141823Z
URL:https://business.venicechamber.com/events/details/network-lunch-july-2019-1111
END:VEVENT

END:VCALENDAR
