BEGIN:VCALENDAR
VERSION:2.0
PRODID:-//ChamberMaster//Event Calendar 2.0//EN
METHOD:PUBLISH
X-PUBLISHED-TTL:P3D
REFRESH-INTERVAL:P3D
CALSCALE:GREGORIAN
BEGIN:VEVENT
DTSTART:20190114T163000Z
DTEND:20190114T180000Z
X-MICROSOFT-CDO-ALLDAYEVENT:FALSE
SUMMARY:Network Lunch - January 2019
DESCRIPTION:Come network with us and give your 30 second commercial while enjoying a delicious lunch!  Sponsorship Opportunity Available! *contact Charleen Myers for more information\n\n\n\n\n\nPlease Choose One:\n\n\n	Grilled Portabella Steak\n	Grilled Chicken Florentine\n	Seared Salmon
X-ALT-DESC;FMTTYPE=text/html:<p><span style="font-size:18px\;">Come network with us and give your 30 second commercial while enjoying a delicious lunch!&nbsp\; Sponsorship Opportunity Available! <em>*contact Charleen Myers for more information</em></span><br />\n<br />\n<br />\n<span style="font-size: 14px\;"><span style="color: rgb(51\, 51\, 51)\; font-family: sans-serif\, Arial\, Verdana\, &quot\;Trebuchet MS&quot\;\; background-color: rgb(255\, 255\, 255)\;"><span style="font-size:18px\;">Please Choose One:</span></span></span></p>\n\n<ul>\n	<li><span style="font-size:18px\;">Grilled Portabella Steak</span></li>\n	<li><span style="font-size:18px\;"><span style="color: rgb(51\, 51\, 51)\; font-family: sans-serif\, Arial\, Verdana\, &quot\;Trebuchet MS&quot\;\; background-color: rgb(255\, 255\, 255)\;">Grilled Chicken Florentine</span></span></li>\n	<li><span style="font-size:18px\;"><span style="color: rgb(51\, 51\, 51)\; font-family: sans-serif\, Arial\, Verdana\, &quot\;Trebuchet MS&quot\;\; background-color: rgb(255\, 255\, 255)\;">Seared Salmon</span></span></li>\n</ul>\n\n<p>&nbsp\;</p>\n
LOCATION:Venice Hotel Venezia 425 U.S. 41 Bypass N Venice\, FL 34285
UID:e.3379.1080
SEQUENCE:3
DTSTAMP:20260425T221404Z
URL:https://business.venicechamber.com/events/details/network-lunch-january-2019-1080
END:VEVENT

END:VCALENDAR
