BEGIN:VCALENDAR
VERSION:2.0
PRODID:-//ChamberMaster//Event Calendar 2.0//EN
METHOD:PUBLISH
X-PUBLISHED-TTL:P3D
REFRESH-INTERVAL:P3D
CALSCALE:GREGORIAN
BEGIN:VEVENT
DTSTART:20190211T163000Z
DTEND:20190211T180000Z
X-MICROSOFT-CDO-ALLDAYEVENT:FALSE
SUMMARY:Network Lunch - February 2019
DESCRIPTION:Come network with us and give your 30 second commercial while enjoying a delicious lunch!  Sponsorship Opportunity Available! *contact Charleen Myers for more information.\n\n\n\nJersey Style Pizza and Salad will be served!
X-ALT-DESC;FMTTYPE=text/html:<p><span style="font-size:18px\;">Come network with us and give your 30 second commercial while enjoying a delicious lunch!&nbsp\; Sponsorship Opportunity Available! <em>*contact Charleen Myers for more information.<br />\n<br />\nJersey Style Pizza and Salad will be served!</em></span><br />\n<br />\n<br />\n&nbsp\;</p>\n
LOCATION:Solorzano's Pizzeria 212 S Tamiami Trail Venice\, FL 34285
UID:e.3379.1092
SEQUENCE:3
DTSTAMP:20260425T204149Z
URL:https://business.venicechamber.com/events/details/network-lunch-february-2019-1092
END:VEVENT

END:VCALENDAR
