BEGIN:VCALENDAR
VERSION:2.0
PRODID:-//ChamberMaster//Event Calendar 2.0//EN
METHOD:PUBLISH
X-PUBLISHED-TTL:P3D
REFRESH-INTERVAL:P3D
CALSCALE:GREGORIAN
BEGIN:VEVENT
DTSTART:20190812T153000Z
DTEND:20190812T170000Z
X-MICROSOFT-CDO-ALLDAYEVENT:FALSE
SUMMARY:Network Lunch - August 2019
DESCRIPTION:Come and build your network and promote your business!  Give your 30 second commercial while enjoying a delicious lunch!  Sponsorship Opportunity Available! *contact Charleen Myers for more information\n\n\n\nPlease choose one:\n\n\n	Grilled Chicken Caesar Salad\n	Josper Grilled Fin's Burger with Fries\n	Fresh Fish Tacos with Fries\n	"Beyond Meat" Veggie burger
X-ALT-DESC;FMTTYPE=text/html:<p><span style="font-size:18px\;">Come and build your network and promote your business!&nbsp\; Give your 30 second commercial while enjoying a delicious lunch!&nbsp\; Sponsorship Opportunity Available! <em>*contact Charleen Myers for more information</em><br />\n<br />\nPlease choose one:</span></p>\n\n<ul>\n	<li><span style="font-size:18px\;">Grilled Chicken Caesar Salad</span></li>\n	<li><span style="font-size:18px\;">Josper Grilled Fin&#39\;s Burger with Fries</span></li>\n	<li><span style="font-size:18px\;">Fresh Fish Tacos with Fries</span></li>\n	<li><span style="font-size:18px\;">&quot\;Beyond Meat&quot\; Veggie burger</span></li>\n</ul>\n\n<p><br />\n<br />\n&nbsp\;</p>\n
LOCATION:Fins at Sharky's 1600 Harbor Drive S. Venice 34285
UID:e.3379.1117
SEQUENCE:3
DTSTAMP:20260425T105621Z
URL:https://business.venicechamber.com/events/details/network-lunch-august-2019-1117
END:VEVENT

END:VCALENDAR
