BEGIN:VCALENDAR
VERSION:2.0
PRODID:-//ChamberMaster//Event Calendar 2.0//EN
METHOD:PUBLISH
X-PUBLISHED-TTL:P3D
REFRESH-INTERVAL:P3D
CALSCALE:GREGORIAN
BEGIN:VEVENT
DTSTART:20190408T153000Z
DTEND:20190408T170000Z
X-MICROSOFT-CDO-ALLDAYEVENT:FALSE
SUMMARY:Network Lunch - April 2019
DESCRIPTION:Come and build your network and promote your business!  Give your 30 second commercial while enjoying a delicious lunch!  Sponsorship Opportunity Available! *contact Charleen Myers for more information\n\n\n\nPlease Choose One:\n\n\n	Eggplant Parmesan\n	Chicken Marsala \n	Lasagna
X-ALT-DESC;FMTTYPE=text/html:<p><span style="font-size:18px\;">Come and build your network and promote your business!&nbsp\; Give your 30 second commercial while enjoying a delicious lunch!&nbsp\; Sponsorship Opportunity Available! <em>*contact Charleen Myers for more information</em><br />\n<br />\nPlease Choose One:</span></p>\n\n<ul>\n	<li><span style="font-size:18px\;">Eggplant Parmesan</span></li>\n	<li><span style="font-size:18px\;">Chicken Marsala</span><span style="font-size:11.0pt\;font-family:&quot\;Calibri&quot\;\,sans-serif\;&#10\;mso-fareast-font-family:&quot\;Times New Roman&quot\;\;mso-ansi-language:EN-US\;mso-fareast-language:&#10\;EN-US\;mso-bidi-language:AR-SA">&nbsp\;</span></li>\n	<li><span style="font-size:18px\;">Lasagna</span></li>\n</ul>\n\n<p><br />\n&nbsp\;</p>\n
LOCATION:Allegro Bistro 1740 E Venice Ave Venice\, FL 34292
UID:e.3379.1084
SEQUENCE:3
DTSTAMP:20260425T171909Z
URL:https://business.venicechamber.com/events/details/network-lunch-april-2019-1084
END:VEVENT

END:VCALENDAR
