BEGIN:VCALENDAR
VERSION:2.0
PRODID:-//ChamberMaster//Event Calendar 2.0//EN
METHOD:PUBLISH
X-PUBLISHED-TTL:P3D
REFRESH-INTERVAL:P3D
CALSCALE:GREGORIAN
BEGIN:VEVENT
DTSTART:20200113T163000Z
DTEND:20200113T180000Z
X-MICROSOFT-CDO-ALLDAYEVENT:FALSE
SUMMARY:Net Lunch - January 2020
DESCRIPTION:Come network with us and give your 30 second commercial while enjoying a delicious lunch!  Sponsorship Opportunity Available! *contact Charleen Myers for more information\n\n\n\nPlease choose one:\n\n\n	Chicken and Pecan Salad\n	Monterey Club with Grilled Chicken\, Bacon & Avocado\n	Philly Cheesesteak
X-ALT-DESC;FMTTYPE=text/html:<p><span style="font-size:18px\;">Come network with us and give your 30 second commercial while enjoying a delicious lunch!&nbsp\; Sponsorship Opportunity Available! *contact Charleen Myers for more information<br />\n<br />\nPlease choose one:</span></p>\n\n<ul>\n	<li><span style="font-size:18px\;">Chicken and Pecan Salad</span></li>\n	<li><span style="font-size:18px\;">Monterey Club with Grilled Chicken\, Bacon &amp\; Avocado</span></li>\n	<li><span style="font-size:18px\;">Philly Cheesesteak</span></li>\n</ul>\n\n<p><br />\n<br />\n<br />\n&nbsp\;</p>\n
LOCATION:Venice Hotel Venezia 425 U.S. 41 Bypass N Venice\, FL 34285
UID:e.3379.1671
SEQUENCE:3
DTSTAMP:20260425T023836Z
URL:https://business.venicechamber.com/events/details/net-lunch-january-2020-1671
END:VEVENT

END:VCALENDAR
