BEGIN:VCALENDAR
VERSION:2.0
PRODID:-//ChamberMaster//Event Calendar 2.0//EN
METHOD:PUBLISH
X-PUBLISHED-TTL:P3D
REFRESH-INTERVAL:P3D
CALSCALE:GREGORIAN
BEGIN:VEVENT
DTSTART:20200210T163000Z
DTEND:20200210T180000Z
X-MICROSOFT-CDO-ALLDAYEVENT:FALSE
SUMMARY:Net Lunch - February 2020
DESCRIPTION:Come network with us and give your 30 second commercial while enjoying a delicious lunch!  Sponsorship Opportunity Available! *contact Charleen Myers for more information\n\n\n\nBuffet Lunch:  Delicious Swedish Meatballs and Noodles\, Salad\, Vegetable Lasagna and desert!
X-ALT-DESC;FMTTYPE=text/html:<p><span style="font-size:18px\;">Come network with us and give your 30 second commercial while enjoying a delicious lunch!&nbsp\; Sponsorship Opportunity Available! <em>*contact Charleen Myers for more information<br />\n<br />\nBuffet Lunch:&nbsp\; Delicious Swedish Meatballs and Noodles\, Salad\, Vegetable Lasagna and desert!&nbsp\;&nbsp\;</em></span><br />\n<br />\n&nbsp\;</p>\n
LOCATION:Loveland Center 157 S Havana Road Venice\, FL 34292
UID:e.3379.1681
SEQUENCE:3
DTSTAMP:20260425T023302Z
URL:https://business.venicechamber.com/events/details/net-lunch-february-2020-1681
END:VEVENT

END:VCALENDAR
