BEGIN:VCALENDAR
VERSION:2.0
PRODID:-//ChamberMaster//Event Calendar 2.0//EN
METHOD:PUBLISH
X-PUBLISHED-TTL:P3D
REFRESH-INTERVAL:P3D
CALSCALE:GREGORIAN
BEGIN:VEVENT
DTSTART:20220412T160000Z
DTEND:20220412T170000Z
X-MICROSOFT-CDO-ALLDAYEVENT:FALSE
SUMMARY:Leads Exchange Group Lunch Social April 12\, 2022
DESCRIPTION:Luncheon is just for Leads Exchange Group Members. \n\n\n\nLunch will be sponsored by Compass Property Management.  Pizza will be served at 12:00 pm.\n\n\n\nYou MUST preregister. We cannot take walk ins.  \n\n\n\nDoor prizes are welcome to promote your business!  Registration is available now!\n\n\n\n*IT IS POSSIBLE AT ANY OF OUR CHAMBER EVENTS WE WILL BE TAKING PHOTOS AND/OR VIDEOING\, AND THAT YOU MAY BE FEATURED IN THESE PHOTOS/VIDEOS. THESE PHOTOS/VIDEOS ARE FOR THE USE OF THE VENICE AREA CHAMBER OF COMMERCE ONLY AND COULD POSSIBLY BE FEATURED ON OUR SOCIAL MEDIA ACCOUNTS\, ON OUR WEBSITE\, AND/OR IN THE CHAMBER'S ADVERTISEMENTS AND PROMOTIONAL MATERIALS.
X-ALT-DESC;FMTTYPE=text/html:<strong><span style="font-size:22px\;">Luncheon is just for Leads Exchange Group Members.&nbsp\;<br />\n<br />\nLunch will be sponsored by Compass Property Management.&nbsp\; Pizza will be served at 12:00 pm.</span></strong><br />\n<br />\n<span style="font-size: 18px\;"><strong>You MUST preregister. We cannot take walk ins.&nbsp\;&nbsp\;<br />\n<br />\nDoor prizes are welcome to promote your business!&nbsp\; Registration is available now!</strong></span><br />\n<br />\n<em><span style="font-size: 9px\;"><span style="color: rgb(0\, 0\, 0)\; font-family: Montserrat\, Helvetica\, Arial\, Lucida\, sans-serif\; font-weight: 700\; letter-spacing: 2px\; text-align: center\; text-transform: uppercase\;">*IT IS POSSIBLE AT ANY OF OUR CHAMBER EVENTS WE WILL BE TAKING PHOTOS AND/OR VIDEOING\, AND THAT YOU MAY BE FEATURED IN THESE PHOTOS/VIDEOS. THESE PHOTOS/VIDEOS ARE FOR THE USE OF THE VENICE AREA CHAMBER OF COMMERCE ONLY AND COULD POSSIBLY BE FEATURED ON OUR SOCIAL MEDIA ACCOUNTS\, ON OUR WEBSITE\, AND/OR IN THE CHAMBER&rsquo\;S ADVERTISEMENTS AND PROMOTIONAL MATERIALS.</span></span></em><br />\n&nbsp\;
LOCATION:Compass Property Management 246 West Tampa Ave Venice FL 34285
UID:e.3379.6567
SEQUENCE:3
DTSTAMP:20260419T193423Z
URL:https://business.venicechamber.com/events/details/leads-exchange-group-lunch-social-april-12-2022-6567
END:VEVENT

END:VCALENDAR
