BEGIN:VCALENDAR
VERSION:2.0
PRODID:-//ChamberMaster//Event Calendar 2.0//EN
METHOD:PUBLISH
X-PUBLISHED-TTL:P3D
REFRESH-INTERVAL:P3D
CALSCALE:GREGORIAN
BEGIN:VEVENT
DTSTART:20190115T223000Z
DTEND:20190115T233000Z
X-MICROSOFT-CDO-ALLDAYEVENT:FALSE
SUMMARY:Leadership Venice Information Session
DESCRIPTION:Learn all about Leadership Venice!
X-ALT-DESC;FMTTYPE=text/html:<span style="font-size:18px\;">Learn all about Leadership Venice!</span>
LOCATION:Venice Area Chamber of Commerce
UID:e.3379.1088
SEQUENCE:3
DTSTAMP:20260425T221444Z
URL:https://business.venicechamber.com/events/details/leadership-venice-information-session-1088
END:VEVENT

END:VCALENDAR
