BEGIN:VCALENDAR
VERSION:2.0
PRODID:-//ChamberMaster//Event Calendar 2.0//EN
METHOD:PUBLISH
X-PUBLISHED-TTL:P3D
REFRESH-INTERVAL:P3D
CALSCALE:GREGORIAN
BEGIN:VEVENT
DTSTART:20211208T150000Z
DTEND:20211208T190000Z
X-MICROSOFT-CDO-ALLDAYEVENT:FALSE
SUMMARY:Job Fair 2021
DESCRIPTION:The Venice Area Chamber of Commerce\, in partnership with CareerSource Suncoast and Sarasota County Government\, will be holding a Job Fair at the Venice Community Center.\n\n\n\nOur Media Sponsor Venice Gondolier Sun will reach out to participants with additional advertising opportunities.\n\n\n\nParticipating businesses include:\n\n\n\nA Better Solution of Venice\n\nAbsolute Aluminum\n\nAll Around Charters & Tours\n\nAll Surface Painting Company\n\nAn Organized Move\n\nAston Gardens at Pelican Pointe\n\nBabe's Plumbing\, Inc. & Fire Sprinklers\n\nBoys & Girls Clubs of Sarasota and DeSoto Counties\n\nBrewBurgers Back Porch (opens early 2022)\n\nCoca-Cola Beverages Florida.com\n\nEarly Learning Coalition of Sarasota County\n\nExcel Telemessaging\n\nFamily Spine and Pain Care Institute\n\nFerrovial Services\n\nFirst Light Home Care of Sarasota/Charlotte Counties\n\nFlorida Cancer Specialists\n\nGulf Coast Carpet Cleaning & Disaster Service\, LLC\n\nHeartis of Venice\n\nHome Instead\n\nHome2 Suites by Hilton\n\nHNTB Corporation\n\nJacaranda Trace\n\nJames Griffith Salon\n\nJeld-Wen\n\nKeller Williams Island Life Real Estate\n\nLoveland Center\n\nMaris Pointe\n\nNavamaze\n\nPayroll Vault\n\nSarasota County Government\n\nSarasota Memorial Health Care System\n\nShorePoint Health Venice\n\nSunset Lake Nursing & Rehabilitation Center\n\nSYNERGY HomeCare of Venice\n\nTeakdecking Systems\n\nThe Salvation Army of Sarasota County\n\nTidewell Hospice\n\nTuscan Gardens of Venetia Bay\n\nVelasquez-Pierce Family Dentistry\n\nVenice Golf & Country Club #1\, Inc.\n\nVenice Gondolier Sun\n\nVillage on the Isle\n\nWENG Radio - Fiorini Broadcasting\n\nYMCA of Southwest Florida\n\n   and more!!!
X-ALT-DESC;FMTTYPE=text/html:<span style="font-size:16px\;"><strong>The Venice Area Chamber of Commerce\, in partnership with CareerSource Suncoast and Sarasota County Government\, will be holding a Job Fair at the Venice Community Center.<br />\n<br />\nOur Media Sponsor Venice Gondolier Sun will reach out to participants with additional advertising opportunities.<br />\n<br />\nParticipating businesses include:<br />\n<br />\nA Better Solution of Venice<br />\nAbsolute Aluminum<br />\nAll Around Charters &amp\; Tours<br />\nAll Surface Painting Company<br />\nAn Organized Move<br />\nAston Gardens at Pelican Pointe<br />\nBabe&#39\;s Plumbing\, Inc. &amp\; Fire Sprinklers<br />\nBoys &amp\; Girls Clubs of Sarasota and DeSoto Counties<br />\nBrewBurgers Back Porch (opens early 2022)<br />\nCoca-Cola Beverages Florida.com<br />\nEarly Learning Coalition of Sarasota County<br />\nExcel Telemessaging</strong></span><br />\n<span style="font-size:16px\;"><strong>Family Spine and Pain Care Institute<br />\nFerrovial Services<br />\nFirst Light Home Care of Sarasota/Charlotte Counties<br />\nFlorida Cancer Specialists<br />\nGulf Coast Carpet Cleaning &amp\; Disaster Service\, LLC<br />\nHeartis of Venice<br />\nHome Instead<br />\nHome2 Suites by Hilton<br />\nHNTB Corporation<br />\nJacaranda Trace<br />\nJames Griffith Salon<br />\nJeld-Wen<br />\nKeller Williams Island Life Real Estate<br />\nLoveland Center<br />\nMaris Pointe<br />\nNavamaze<br />\nPayroll Vault<br />\nSarasota County Government<br />\nSarasota Memorial Health Care System<br />\nShorePoint Health Venice<br />\nSunset Lake Nursing &amp\; Rehabilitation Center<br />\nSYNERGY HomeCare of Venice<br />\nTeakdecking Systems<br />\nThe Salvation Army of Sarasota County<br />\nTidewell Hospice<br />\nTuscan Gardens of Venetia Bay</strong></span><br />\n<span style="font-size:16px\;"><strong>Velasquez-Pierce Family Dentistry<br />\nVenice Golf &amp\; Country Club #1\, Inc.<br />\nVenice Gondolier Sun<br />\nVillage on the Isle<br />\nWENG Radio - Fiorini Broadcasting<br />\nYMCA of Southwest Florida<br />\n&nbsp\; &nbsp\;and more!!!</strong></span><br />\n<br />\n<br />\n<br />\n<br />\n&nbsp\;
LOCATION:Venice Community Center 326 Nokomis Ave S Venice\, FL 34285
UID:e.3379.6508
SEQUENCE:3
DTSTAMP:20260419T130934Z
URL:https://business.venicechamber.com/events/details/job-fair-2021-6508
END:VEVENT

END:VCALENDAR
