BEGIN:VCALENDAR
VERSION:2.0
PRODID:-//ChamberMaster//Event Calendar 2.0//EN
METHOD:PUBLISH
X-PUBLISHED-TTL:P3D
REFRESH-INTERVAL:P3D
CALSCALE:GREGORIAN
BEGIN:VEVENT
DTSTART:20200610T160000Z
DTEND:20200610T170000Z
X-MICROSOFT-CDO-ALLDAYEVENT:FALSE
SUMMARY:Jen Mann - Why Not Now?
DESCRIPTION:You won't want to miss New York Times Bestselling Author Jen Mann!  Jen is known for her wildly popular and hysterical blog People I Want to Punch in the Throat!\n\n\n\nPlease join us for a funny talk about how Jen pivoted from a work-at-home mom with two little kids and a husband who drove her batty to a New York Times best-selling author with a full-time writing career and over one million followers on social media!  It's a funny talk that shows it's never too late to change your course and follow a new career path in life.
X-ALT-DESC;FMTTYPE=text/html:<span style="font-family:arial\;"><span style="font-size:18px\;"><span style="color:black\;">You won&#39\;t want to miss <strong>New York Times Bestselling Author Jen Mann</strong>!&nbsp\; Jen is known for her wildly popular and hysterical blog <strong><em>People I Want to Punch in the Throat!</em></strong><br />\n<br />\nPlease join us for a funny talk about how Jen pivoted from a work-at-home mom with two little kids and a husband who drove her batty to a New York Times best-selling author with a full-time writing career and over one million followers on social media!&nbsp\; It&#39\;s a funny talk that shows it&#39\;s never too late to change your course and follow a new career path in life.</span></span></span><br />\n<br />\n<br />\n<br />\n<br />\n&nbsp\;
LOCATION:Venice Area Chamber of Commerce 597 Tamiami Trail S Venice FL 34285
UID:e.3379.1913
SEQUENCE:3
DTSTAMP:20260424T184946Z
URL:https://business.venicechamber.com/events/details/jen-mann-why-not-now-1913
END:VEVENT

END:VCALENDAR
