BEGIN:VCALENDAR
VERSION:2.0
PRODID:-//ChamberMaster//Event Calendar 2.0//EN
METHOD:PUBLISH
X-PUBLISHED-TTL:P3D
REFRESH-INTERVAL:P3D
CALSCALE:GREGORIAN
BEGIN:VEVENT
DTSTART:20200529T150000Z
DTEND:20200529T160000Z
X-MICROSOFT-CDO-ALLDAYEVENT:FALSE
SUMMARY:It's not what you say\, It's how you say it!
DESCRIPTION:Please join Christina Florand with Florand Mediation and Denise Whalin with Rise to the Challenge Consulting to discuss: \n\nHow Perception Impacts Communication!  Words are powerful\, use them wisely! \n\n\n\nA must see presentation!
X-ALT-DESC;FMTTYPE=text/html:<span style="font-family:arial\;"><strong><span style="font-size:18px\;"><span style="color:black\;">Please join Christina Florand with Florand Mediation and Denise Whalin with Rise to the Challenge Consulting to discuss:&nbsp\;<br />\nHow Perception Impacts Communication!&nbsp\;&nbsp\;Words are powerful\, use them wisely!&nbsp\;<br />\n<br />\nA must see presentation!</span></span></strong></span><br />\n<br />\n<br />\n<br />\n<br />\n<br />\n<br />\n&nbsp\;
LOCATION:Venice Area Chamber of Commerce 597 Tamiami Trail S Venice FL 34285
UID:e.3379.1912
SEQUENCE:3
DTSTAMP:20260424T204303Z
URL:https://business.venicechamber.com/events/details/it-s-not-what-you-say-it-s-how-you-say-it-1912
END:VEVENT

END:VCALENDAR
