BEGIN:VCALENDAR
VERSION:2.0
PRODID:-//ChamberMaster//Event Calendar 2.0//EN
METHOD:PUBLISH
X-PUBLISHED-TTL:P3D
REFRESH-INTERVAL:P3D
CALSCALE:GREGORIAN
BEGIN:VEVENT
DTSTART:20240124T130000Z
DTEND:20240124T143000Z
X-MICROSOFT-CDO-ALLDAYEVENT:FALSE
SUMMARY:Help Build Your Business Three Part Series: Starts January 24\, 2024
DESCRIPTION:Three Part Business Series Sponsored by Hallmark Business Brokers! \n\n\n\nJanuary 24\, 2024: The Best Ways to Attract & Retain Employees Presented By Dane DeSantis\, Hallmark Business Brokers\n\n\n\nMarch 13\, 2024: Revolutionize Your Revenue: Creating a Subscription Model to Grow Any Business Presented By Kelly Olliver\, CHAOS Consulting & Coaching\n\n\n\nMay 22\, 2024: Expense Optimization for Any Business: A Guide to Cutting Costs in the 10 Most Common Areas Presented By Ben Hall\, OverView LLC\n\n \n\n \n\n$25 for all three workshops and includes a complimentary Mastermind Class in September.\n\n \n\n**Cancellations after January 17\, 2024 will not be refunded as reservations have been made in your name for all three workshops.\n \n\n*IT IS POSSIBLE AT ANY OF OUR CHAMBER EVENTS WE WILL BE TAKING PHOTOS AND/OR VIDEOING\, AND THAT YOU MAY BE FEATURED IN THESE PHOTOS/VIDEOS. THESE PHOTOS/VIDEOS ARE FOR THE USE OF THE VENICE AREA CHAMBER OF COMMERCE ONLY AND COULD POSSIBLY BE FEATURED ON OUR SOCIAL MEDIA ACCOUNTS\, ON OUR WEBSITE\, AND/OR IN THE CHAMBER'S ADVERTISEMENTS AND PROMOTIONAL MATERIALS.
X-ALT-DESC;FMTTYPE=text/html:<div><strong>Three Part Business Series Sponsored by Hallmark Business Brokers!&nbsp\;<br />\n<br />\n<u>January 24\, 2024</u>: <a href="https://business.venicechamber.com/events/details/series-1-the-best-ways-to-attract-retain-employees-january-24-2024-8364" target="_blank">The Best Ways to Attract &amp\; Retain Employees</a> </strong><strong style="text-align:justify\;">Presented By</strong><strong> Dane DeSantis\,&nbsp\;Hallmark&nbsp\;Business Brokers<br />\n<br />\n<u>March 13\, 2024:</u>&nbsp\;<a href="https://business.venicechamber.com/events/details/series-2-revolutionize-your-revenue-march-13-2024-8369" target="_blank">Revolutionize Your Revenue:</a> Creating a Subscription Model to Grow Any Business </strong><strong style="text-align: justify\;">Presented By Kelly Olliver\,&nbsp\;CHAOS Consulting &amp\; Coaching</strong><br />\n<br />\n<strong><u>May 22\, 2024:</u>&nbsp\;</strong><strong style="text-align: justify\;"><a href="https://business.venicechamber.com/events/details/series-3-expense-optimization-for-any-business-may-22-2024-8366" target="_blank">Expense Optimization for Any Business:</a> A Guide to Cutting Costs in the 10 Most Common Areas Presented By&nbsp\;Ben Hall\, OverView LLC</strong><br />\n&nbsp\;</div>\n\n<div style="text-align: justify\;">&nbsp\;</div>\n\n<div><span style="color:#FF0000\;"><span style="font-size:11px\;"><strong style="font-size: 16px\;">$25 for all three workshops and includes a&nbsp\;complimentary Mastermind Class in September.</strong></span></span></div>\n\n<div style="text-align: justify\;">&nbsp\;</div>\n\n<div><em><strong>**Cancellations after January 17\, 2024&nbsp\;will not be refunded as reservations have been made in your name for all three workshops.</strong></em></div>\n&nbsp\;\n\n<div style="text-align: justify\;"><span style="font-size:12px\;"><strong>*IT IS POSSIBLE AT ANY OF OUR CHAMBER EVENTS WE WILL BE TAKING PHOTOS AND/OR VIDEOING\, AND THAT YOU MAY BE FEATURED IN THESE PHOTOS/VIDEOS. THESE PHOTOS/VIDEOS ARE FOR THE USE OF THE VENICE AREA CHAMBER OF COMMERCE ONLY AND COULD POSSIBLY BE FEATURED ON OUR SOCIAL MEDIA ACCOUNTS\, ON OUR WEBSITE\, AND/OR IN THE CHAMBER&#39\;S ADVERTISEMENTS AND PROMOTIONAL MATERIALS.</strong></span></div>\n
LOCATION:Venice Area Chamber of Commerce 597 S Tamiami Trail Venice\, FL 34285
UID:e.3379.8371
SEQUENCE:3
DTSTAMP:20260424T080300Z
URL:https://business.venicechamber.com/events/details/help-build-your-business-three-part-series-starts-january-24-2024-8371
END:VEVENT

END:VCALENDAR
