BEGIN:VCALENDAR
VERSION:2.0
PRODID:-//ChamberMaster//Event Calendar 2.0//EN
METHOD:PUBLISH
X-PUBLISHED-TTL:P3D
REFRESH-INTERVAL:P3D
CALSCALE:GREGORIAN
BEGIN:VEVENT
DTSTART:20200218T140000Z
DTEND:20200218T150000Z
X-MICROSOFT-CDO-ALLDAYEVENT:FALSE
SUMMARY:Ground Breaking The Eye Associates February 18\, 2020
DESCRIPTION:Please join us for a Ground Breaking at The Eye Associates! \n\n\n\nThe Eye Associates' Difference: The Eye Associates' Board Certified Physicians group is among the most experienced and well trained in the country\, and their commitment to keeping up with the most advanced technology is unsurpassed.
X-ALT-DESC;FMTTYPE=text/html:<span style="font-size:18px\;">Please join us for a Ground Breaking at The Eye Associates!&nbsp\;</span><br />\n<br />\n<span style="background:white\;"><span style="color:#323232\;"><span style="font-size:12.0pt\;">The Eye Associates&rsquo\; Difference: The Eye Associates&rsquo\; Board Certified Physicians group is among the most experienced and well trained in the country\, and their commitment to keeping up with the most advanced technology is unsurpassed. </span></span></span><br />\n<br />\n&nbsp\;
LOCATION:The Eye Associates 1550 East Venice Avenue Venice FL 34292
UID:e.3379.1879
SEQUENCE:3
DTSTAMP:20260425T010841Z
URL:https://business.venicechamber.com/events/details/ground-breaking-the-eye-associates-february-18-2020-1879
END:VEVENT

END:VCALENDAR
