BEGIN:VCALENDAR
VERSION:2.0
PRODID:-//ChamberMaster//Event Calendar 2.0//EN
METHOD:PUBLISH
X-PUBLISHED-TTL:P3D
REFRESH-INTERVAL:P3D
CALSCALE:GREGORIAN
BEGIN:VEVENT
DTSTART:20190611T124500Z
DTEND:20190611T164500Z
X-MICROSOFT-CDO-ALLDAYEVENT:FALSE
SUMMARY:Venice Area Chamber of Commerce Marketing Summit 2019
DESCRIPTION:Venice Area Chamber of Commerce\n\nMarketing Summit 2019\n\nSecure your seat and continue to event RSVP page.
X-ALT-DESC;FMTTYPE=text/html:<div style="color: rgb(0\, 0\, 0)\; font-family: Arial\, Helvetica\, sans-serif\; font-size: 24px\; text-align: -webkit-center\;">Venice Area Chamber of Commerce</div>\n\n<div style="color: rgb(0\, 0\, 0)\; font-family: Arial\, Helvetica\, sans-serif\; font-size: 24px\; text-align: -webkit-center\;">Marketing Summit 2019</div>\n\n<p style="text-align: center\;"><span style="font-size: 22px\;"><span style="font-family: arial\;">Secure your seat and continue to&nbsp\;event RSVP page.</span></span></p>\n<br />\n&nbsp\;
LOCATION:William H. Jervey\, Jr. Venice Public Library Auditorium 300 Nokomis Ave. South\, Venice\, FL 34285
UID:e.3379.1288
SEQUENCE:3
DTSTAMP:20260425T140214Z
URL:https://business.venicechamber.com/events/details/google-workshop-marketing-summit-2019-reach-customers-online-with-google-1288
END:VEVENT

END:VCALENDAR
