BEGIN:VCALENDAR
VERSION:2.0
PRODID:-//ChamberMaster//Event Calendar 2.0//EN
METHOD:PUBLISH
X-PUBLISHED-TTL:P3D
REFRESH-INTERVAL:P3D
CALSCALE:GREGORIAN
BEGIN:VEVENT
DTSTART:20240522T121500Z
DTEND:20240522T133000Z
X-MICROSOFT-CDO-ALLDAYEVENT:FALSE
SUMMARY:Expense Optimization for Any Business - May 22\, 2024
DESCRIPTION:Expense Optimization for Any Business: A Guide to Cutting Costs in the 10 Most Common Areas Presented By Ben Hall\, OverView Bookkeeping & Consulting LLC.\n\n\n\nThis is an essential seminar for every business owner that offers comprehensive strategies for cost-cutting across the 10 most common areas of expenditure in businesses. You will learn how to systematically and deliberately approach expense reduction\, enabling you to boost profits without necessarily increasing sales. It focuses on practical\, actionable steps that\, when implemented and executed effectively\, have the potential to save your business an impressive $2\,500 per employee per year. This makes it an invaluable resource for business owners and managers looking to optimize their financial operations.\n\n\n\nWhat you will takeaway from this workshop:\n\n	How to intentionally and systemically address expense reduction\n	Increase profit without increasing sales\n	How implementing and executing what you will learn can save you $2\,500 per employee per year\n\n\n\nThis workshop is part of the Help Build Your Business Series Sponsored By Hallmark Business Brokers.\n\n\n\n**Cancellations after May 15\, 2024 will not be refunded as reservations have been made in your name.\n\n\n\n*IT IS POSSIBLE AT ANY OF OUR CHAMBER EVENTS WE WILL BE TAKING PHOTOS AND/OR VIDEOING\, AND THAT YOU MAY BE FEATURED IN THESE PHOTOS/VIDEOS. THESE PHOTOS/VIDEOS ARE FOR THE USE OF THE VENICE AREA CHAMBER OF COMMERCE ONLY AND COULD POSSIBLY BE FEATURED ON OUR SOCIAL MEDIA ACCOUNTS\, ON OUR WEBSITE\, AND/OR IN THE CHAMBER'S ADVERTISEMENTS AND PROMOTIONAL MATERIALS.
X-ALT-DESC;FMTTYPE=text/html:<strong>Expense Optimization for Any Business: A Guide to Cutting Costs in the 10 Most Common Areas Presented By Ben Hall\, OverView Bookkeeping &amp\; Consulting LLC.</strong><br />\n<br />\nThis is an essential seminar for every business owner that offers comprehensive strategies for cost-cutting across the 10 most common areas of expenditure in businesses. You will learn how to systematically and deliberately approach expense reduction\, enabling you to boost profits without necessarily increasing sales. It focuses on practical\, actionable steps that\, when implemented and executed effectively\, have the potential to save your business an impressive $2\,500 per employee per year. This makes it an invaluable resource for business owners and managers looking to optimize their financial operations.<br />\n<br />\n<strong>What you will takeaway from this workshop:</strong>\n<ul>\n	<li>How to intentionally and systemically address expense reduction</li>\n	<li>Increase profit without increasing sales</li>\n	<li>How implementing and executing what you will learn can save you $2\,500 per employee per year</li>\n</ul>\n<br />\n<span style="color:#FF0000\;"><strong>This workshop is part of the Help Build Your Business Series Sponsored By Hallmark Business Brokers.</strong></span><br />\n<br />\n<strong>**Cancellations after May 15\, 2024&nbsp\;will not be refunded as reservations have been made in your name.</strong><br />\n<br />\n<em><span style="font-size:11px\;">*IT IS POSSIBLE AT ANY OF OUR CHAMBER EVENTS WE WILL BE TAKING PHOTOS AND/OR VIDEOING\, AND THAT YOU MAY BE FEATURED IN THESE PHOTOS/VIDEOS. THESE PHOTOS/VIDEOS ARE FOR THE USE OF THE VENICE AREA CHAMBER OF COMMERCE ONLY AND COULD POSSIBLY BE FEATURED ON OUR SOCIAL MEDIA ACCOUNTS\, ON OUR WEBSITE\, AND/OR IN THE CHAMBER&#39\;S ADVERTISEMENTS AND PROMOTIONAL MATERIALS.</span></em>
LOCATION:Venice Area Chamber of Commerce 597 S Tamiami Trail Venice\, FL 34285
UID:e.3379.8366
SEQUENCE:3
DTSTAMP:20260424T111132Z
URL:https://business.venicechamber.com/events/details/expense-optimization-for-any-business-may-22-2024-8366
END:VEVENT

END:VCALENDAR
