BEGIN:VCALENDAR
VERSION:2.0
PRODID:-//ChamberMaster//Event Calendar 2.0//EN
METHOD:PUBLISH
X-PUBLISHED-TTL:P3D
REFRESH-INTERVAL:P3D
CALSCALE:GREGORIAN
BEGIN:VEVENT
DTSTART:20200603T190000Z
DTEND:20200603T200000Z
X-MICROSOFT-CDO-ALLDAYEVENT:FALSE
SUMMARY:Dare to Lead June 3\, 2020
DESCRIPTION:Join for an eight week series based on the #1 New York Times and Wall Street Journal Bestseller\, "dare to lead"\, by Brene Brown\, giving you a road map for anyone who wants to lead mindfully\, live bravely and dare to lead!  \n\nPowered by the Venice Area Young Professionals. \n\n \n\nYou must pre-purchase the book. Register now for this free program that is open to all Chamber members.
X-ALT-DESC;FMTTYPE=text/html:<span style="color:#0E0E0E\;"><span style="font-family:arial\,sans-serif\;"><span style="font-size:12.0pt\;">Join for an eight week series based on the #1 New York Times and Wall Street Journal Bestseller\, &quot\;dare to lead&quot\;\, by Brene Brown\, giving you a road map for anyone who wants to lead mindfully\, live bravely and dare to lead!&nbsp\;&nbsp\;</span></span></span><br />\n<strong><span style="color:#333333\;"><span style="font-family:arial\,sans-serif\;"><span style="font-size:12.0pt\;">Powered by the Venice Area Young Professionals.&nbsp\;</span></span></span></strong><br />\n&nbsp\;<br />\n<strong><span style="color:#333333\;"><span style="font-family:arial\,sans-serif\;"><span style="font-size:12.0pt\;">You must pre-purchase the book. Register now for this free program that is open to all Chamber members. </span></span></span></strong><br />\n&nbsp\;
LOCATION:Venice Area Chamber of Commerce 597 Tamiami Trail S Venice FL 34285
UID:e.3379.1902
SEQUENCE:3
DTSTAMP:20260424T185108Z
URL:https://business.venicechamber.com/events/details/dare-to-lead-june-3-2020-1902
END:VEVENT

END:VCALENDAR
