BEGIN:VCALENDAR
VERSION:2.0
PRODID:-//ChamberMaster//Event Calendar 2.0//EN
METHOD:PUBLISH
X-PUBLISHED-TTL:P3D
REFRESH-INTERVAL:P3D
CALSCALE:GREGORIAN
BEGIN:VEVENT
DTSTART:20220413T120000Z
DTEND:20220413T130000Z
X-MICROSOFT-CDO-ALLDAYEVENT:FALSE
SUMMARY:Coffee Connections & Ribbon Cutting HCA Florida Wellen Park Medical Office April 13\, 2022
DESCRIPTION:Please join us in connecting with other business professionals while having a cup of coffee hosted by HCA Florida Wellen Park Medical Office!  \n\n\n\nThe Coffee Connections Event will be held at the Wellen Park Welcoming Center and then we will head over to the new Medical Office for a Ribbon Cutting!  Ribbon Cutting will be at 9:15 am.\n\n\n\nYou MUST preregister. We cannot take walk ins.  \n\n\n\nDoor prizes are welcome to promote your business!  Registration is available now!\n\n\n\n*IT IS POSSIBLE AT ANY OF OUR CHAMBER EVENTS WE WILL BE TAKING PHOTOS AND/OR VIDEOING\, AND THAT YOU MAY BE FEATURED IN THESE PHOTOS/VIDEOS. THESE PHOTOS/VIDEOS ARE FOR THE USE OF THE VENICE AREA CHAMBER OF COMMERCE ONLY AND COULD POSSIBLY BE FEATURED ON OUR SOCIAL MEDIA ACCOUNTS\, ON OUR WEBSITE\, AND/OR IN THE CHAMBER?S ADVERTISEMENTS AND PROMOTIONAL MATERIALS.
X-ALT-DESC;FMTTYPE=text/html:<span style="font-size:18px\;"><strong>Please join us in connecting with other business professionals while having a cup of coffee hosted by HCA Florida Wellen Park Medical Office!&nbsp\;&nbsp\;<br />\n<br />\nThe Coffee Connections Event will be held at the Wellen Park Welcoming Center and then we will head over to the new Medical Office for a Ribbon Cutting!&nbsp\; Ribbon Cutting will be at 9:15 am.<br />\n<br />\nYou MUST preregister. We cannot take walk ins.&nbsp\;&nbsp\;<br />\n<br />\nDoor prizes are welcome to promote your business!&nbsp\; Registration is available now!</strong></span><br />\n<br />\n<em><span style="font-size: 9px\;"><span style="color: rgb(0\, 0\, 0)\; font-family: Montserrat\, Helvetica\, Arial\, Lucida\, sans-serif\; font-weight: 700\; letter-spacing: 2px\; text-align: center\; text-transform: uppercase\;">*IT IS POSSIBLE AT ANY OF OUR CHAMBER EVENTS WE WILL BE TAKING PHOTOS AND/OR VIDEOING\, AND THAT YOU MAY BE FEATURED IN THESE PHOTOS/VIDEOS. THESE PHOTOS/VIDEOS ARE FOR THE USE OF THE VENICE AREA CHAMBER OF COMMERCE ONLY AND COULD POSSIBLY BE FEATURED ON OUR SOCIAL MEDIA ACCOUNTS\, ON OUR WEBSITE\, AND/OR IN THE CHAMBER?S ADVERTISEMENTS AND PROMOTIONAL MATERIALS.</span></span></em>
LOCATION:Wellen Park Welcome Center 12275 Mercado Drive Venice\, FL 34293
UID:e.3379.6548
SEQUENCE:3
DTSTAMP:20260419T213209Z
URL:https://business.venicechamber.com/events/details/coffee-connections-ribbon-cutting-hca-florida-wellen-park-medical-office-april-13-2022-6548
END:VEVENT

END:VCALENDAR
