BEGIN:VCALENDAR
VERSION:2.0
PRODID:-//ChamberMaster//Event Calendar 2.0//EN
METHOD:PUBLISH
X-PUBLISHED-TTL:P3D
REFRESH-INTERVAL:P3D
CALSCALE:GREGORIAN
BEGIN:VEVENT
DTSTART:20220309T124500Z
DTEND:20220309T140000Z
X-MICROSOFT-CDO-ALLDAYEVENT:FALSE
SUMMARY:Coffee Connections Island Village Montessori Charter School March 9\, 2022
DESCRIPTION:Please join us in connecting with other business professionals while having a cup of coffee hosted by Island Village Montessori Charter School!  \n\n\n\n**Start Time for the event is 7:45 am due to school hours.  Please arrive prior to 7:45 am to prevent waiting on parent drop off line. \n\n\n\nThe entrance is from Edmonson Road.  Staff will be there directing traffic.\n\n\n\nYou MUST preregister. We cannot take walk ins.  \n\n\n\nDoor prizes are welcome to promote your business!  Registration is available now!\n\n\n\n*IT IS POSSIBLE AT ANY OF OUR CHAMBER EVENTS WE WILL BE TAKING PHOTOS AND/OR VIDEOING\, AND THAT YOU MAY BE FEATURED IN THESE PHOTOS/VIDEOS. THESE PHOTOS/VIDEOS ARE FOR THE USE OF THE VENICE AREA CHAMBER OF COMMERCE ONLY AND COULD POSSIBLY BE FEATURED ON OUR SOCIAL MEDIA ACCOUNTS\, ON OUR WEBSITE\, AND/OR IN THE CHAMBER'S ADVERTISEMENTS AND PROMOTIONAL MATERIALS.
X-ALT-DESC;FMTTYPE=text/html:<span style="font-size:18px\;"><strong>Please join us in connecting with other business professionals while having a cup of coffee hosted by Island Village Montessori Charter School!&nbsp\;&nbsp\;<br />\n<br />\n**Start Time for the event is 7:45 am due to school hours.&nbsp\; Please arrive prior to 7:45 am to prevent waiting on parent drop off line.&nbsp\;<br />\n<br />\nThe entrance is from Edmonson Road.&nbsp\; </strong></span><span style="font-size:18px\;"><strong>Staff will be there directing traffic.<br />\n<br />\nYou MUST preregister. We cannot take walk ins.&nbsp\;&nbsp\;<br />\n<br />\nDoor prizes are welcome to promote your business!&nbsp\; Registration is available now!</strong></span><br />\n<br />\n<em><span style="font-size: 9px\;"><span style="color: rgb(0\, 0\, 0)\; font-family: Montserrat\, Helvetica\, Arial\, Lucida\, sans-serif\; font-weight: 700\; letter-spacing: 2px\; text-align: center\; text-transform: uppercase\;">*IT IS POSSIBLE AT ANY OF OUR CHAMBER EVENTS WE WILL BE TAKING PHOTOS AND/OR VIDEOING\, AND THAT YOU MAY BE FEATURED IN THESE PHOTOS/VIDEOS. THESE PHOTOS/VIDEOS ARE FOR THE USE OF THE VENICE AREA CHAMBER OF COMMERCE ONLY AND COULD POSSIBLY BE FEATURED ON OUR SOCIAL MEDIA ACCOUNTS\, ON OUR WEBSITE\, AND/OR IN THE CHAMBER&rsquo\;S ADVERTISEMENTS AND PROMOTIONAL MATERIALS.</span></span></em>
LOCATION:Island Village Montessori Charter School 2001 Pinebrook Road Venice FL 34292
UID:e.3379.6536
SEQUENCE:3
DTSTAMP:20260419T180147Z
URL:https://business.venicechamber.com/events/details/coffee-connections-island-village-montessori-charter-school-march-9-2022-6536
END:VEVENT

END:VCALENDAR
