BEGIN:VCALENDAR
VERSION:2.0
PRODID:-//ChamberMaster//Event Calendar 2.0//EN
METHOD:PUBLISH
X-PUBLISHED-TTL:P3D
REFRESH-INTERVAL:P3D
CALSCALE:GREGORIAN
BEGIN:VEVENT
DTSTART:20240410T114500Z
DTEND:20240410T130000Z
X-MICROSOFT-CDO-ALLDAYEVENT:FALSE
SUMMARY:Coffee Connections Island Village Montessori Charter School April 10\, 2024
DESCRIPTION:The Chamber makes it our mission to spotlight our host and each attendee while enjoying  a cup of coffee. \n\n\n\nIf you are looking to find new contacts and connect with existing clients this program is for you.  \n\n\n\n**Start Time for the event is 7:45 am due to school hours.  Please arrive prior to 7:45 am to prevent waiting on parent drop off line. \n\n\n\nThe entrance is from Edmonson Road.  Staff will be there directing traffic.\n\n\n\nYou MUST preregister. We cannot take walk ins.  \n\n\n\nDoor prizes are welcome to promote your business!  Registration is available now!\n\n\n\n*IT IS POSSIBLE AT ANY OF OUR CHAMBER EVENTS WE WILL BE TAKING PHOTOS AND/OR VIDEOING\, AND THAT YOU MAY BE FEATURED IN THESE PHOTOS/VIDEOS. THESE PHOTOS/VIDEOS ARE FOR THE USE OF THE VENICE AREA CHAMBER OF COMMERCE ONLY AND COULD POSSIBLY BE FEATURED ON OUR SOCIAL MEDIA ACCOUNTS\, ON OUR WEBSITE\, AND/OR IN THE CHAMBER'S ADVERTISEMENTS AND PROMOTIONAL MATERIALS.
X-ALT-DESC;FMTTYPE=text/html:<strong style="font-size: 18px\;">The Chamber makes it our mission to spotlight our host and each attendee while enjoying&nbsp\; a cup of coffee.&nbsp\;<br />\n<br />\nIf you are looking to find new contacts and connect with existing clients this program is for you.&nbsp\;&nbsp\;</strong><br />\n<br />\n<span style="font-size:18px\;"><strong>**Start Time for the event is 7:45 am due to school hours.&nbsp\; Please arrive prior to 7:45 am to prevent waiting on parent drop off line.&nbsp\;<br />\n<br />\nThe entrance is from Edmonson Road.&nbsp\; Staff will be there directing traffic.<br />\n<br />\nYou MUST preregister. We cannot take walk ins.&nbsp\;&nbsp\;<br />\n<br />\nDoor prizes are welcome to promote your business!&nbsp\; Registration is available now!</strong></span><br />\n<br />\n<em><span style="font-size: 9px\;"><span style="color: rgb(0\, 0\, 0)\; font-family: Montserrat\, Helvetica\, Arial\, Lucida\, sans-serif\; font-weight: 700\; letter-spacing: 2px\; text-align: center\; text-transform: uppercase\;">*IT IS POSSIBLE AT ANY OF OUR CHAMBER EVENTS WE WILL BE TAKING PHOTOS AND/OR VIDEOING\, AND THAT YOU MAY BE FEATURED IN THESE PHOTOS/VIDEOS. THESE PHOTOS/VIDEOS ARE FOR THE USE OF THE VENICE AREA CHAMBER OF COMMERCE ONLY AND COULD POSSIBLY BE FEATURED ON OUR SOCIAL MEDIA ACCOUNTS\, ON OUR WEBSITE\, AND/OR IN THE CHAMBER&rsquo\;S ADVERTISEMENTS AND PROMOTIONAL MATERIALS.</span></span></em>
LOCATION:Island Village Montessori Charter School 2001 Pinebrook Road Venice FL 34292
UID:e.3379.8296
SEQUENCE:3
DTSTAMP:20260424T160813Z
URL:https://business.venicechamber.com/events/details/coffee-connections-island-village-montessori-charter-school-april-10-2024-8296
END:VEVENT

END:VCALENDAR
