BEGIN:VCALENDAR
VERSION:2.0
PRODID:-//ChamberMaster//Event Calendar 2.0//EN
METHOD:PUBLISH
X-PUBLISHED-TTL:P3D
REFRESH-INTERVAL:P3D
CALSCALE:GREGORIAN
BEGIN:VEVENT
DTSTART:20190404T153000Z
DTEND:20190404T170000Z
X-MICROSOFT-CDO-ALLDAYEVENT:FALSE
SUMMARY:Chamber PowerBites: Doing Business With Seniors? See Things The Way They Do!
DESCRIPTION:Your Company Deals with Seniors Everyday.  See Things the Way They Do!  Join us for an interactive AgePlay Older Adult Sensitivity Training Experience.   See through their eyes.  Feel with their hands.  Understand what they're dealing with when dealing with you. \n\n\n\nBring your own company's marketing materials so you can see how it looks to the aging population.
X-ALT-DESC;FMTTYPE=text/html:<span style="display: inline !important\; float: none\; background-color: rgb(255\, 255\, 255)\; color: rgb(51\, 51\, 51)\; cursor: text\; font-family: sans-serif\,Arial\,Verdana\,&quot\;Trebuchet MS&quot\;\; font-size: 13px\; font-style: normal\; font-variant: normal\; font-weight: 400\; letter-spacing: normal\; line-height: 1.6\; orphans: 2\; text-align: left\; text-decoration: none\; text-indent: 0px\; text-transform: none\; -webkit-text-stroke-width: 0px\; white-space: normal\; word-spacing: 0px\;">Your Company Deals with Seniors Everyday.&nbsp\; See Things the Way They Do!&nbsp\; Join us for an interactive AgePlay Older Adult Sensitivity Training Experience. &nbsp\; See through their eyes.&nbsp\; Feel with their hands.&nbsp\; Understand what they&#39\;re dealing with when dealing with you.&nbsp\;</span><br style="color: rgb(51\, 51\, 51)\; font-family: sans-serif\,Arial\,Verdana\,&amp\;quot\;Trebuchet MS&amp\;quot\;\; font-size: 13px\; font-style: normal\; font-variant: normal\; font-weight: 400\; letter-spacing: normal\; orphans: 2\; text-align: left\; text-decoration: none\; text-indent: 0px\; text-transform: none\; -webkit-text-stroke-width: 0px\; white-space: normal\; word-spacing: 0px\;" />\n<br style="color: rgb(51\, 51\, 51)\; font-family: sans-serif\,Arial\,Verdana\,&amp\;quot\;Trebuchet MS&amp\;quot\;\; font-size: 13px\; font-style: normal\; font-variant: normal\; font-weight: 400\; letter-spacing: normal\; orphans: 2\; text-align: left\; text-decoration: none\; text-indent: 0px\; text-transform: none\; -webkit-text-stroke-width: 0px\; white-space: normal\; word-spacing: 0px\;" />\n<span style="display: inline !important\; float: none\; background-color: rgb(255\, 255\, 255)\; color: rgb(51\, 51\, 51)\; cursor: text\; font-family: sans-serif\,Arial\,Verdana\,&quot\;Trebuchet MS&quot\;\; font-size: 13px\; font-style: normal\; font-variant: normal\; font-weight: 400\; letter-spacing: normal\; line-height: 1.6\; orphans: 2\; text-align: left\; text-decoration: none\; text-indent: 0px\; text-transform: none\; -webkit-text-stroke-width: 0px\; white-space: normal\; word-spacing: 0px\;">Bring your own company&#39\;s marketing materials so you can see how it looks to the aging population.</span>
LOCATION:Venice Area Chamber of Commerce\, 597 Tamiami Trail S\, Venice\, FL 34285
UID:e.3379.1289
SEQUENCE:3
DTSTAMP:20260425T172418Z
URL:https://business.venicechamber.com/events/details/chamber-powerbites-doing-business-with-seniors-see-things-the-way-they-do-1289
END:VEVENT

END:VCALENDAR
