BEGIN:VCALENDAR
VERSION:2.0
PRODID:-//ChamberMaster//Event Calendar 2.0//EN
METHOD:PUBLISH
X-PUBLISHED-TTL:P3D
REFRESH-INTERVAL:P3D
CALSCALE:GREGORIAN
BEGIN:VEVENT
DTSTART:20220819T213000Z
DTEND:20220820T010000Z
X-MICROSOFT-CDO-ALLDAYEVENT:FALSE
SUMMARY:Chamber Has Talent 2022
DESCRIPTION:Join us for an evening of entertainment at our first ever Chamber Has Talent Presented By Plantation Golf & Country Club (500 Rockley Blvd\, Venice\, FL 34293) on Friday\, August 19th from 5:30 PM - 9 PM. You don't want to miss our lineup of Chamber Members showcasing their special talents\, so come out and be a part of the fun while also helping to pay it forward for our future generations. All funds raised will benefit the Venice Area Chamber of Commerce Foundation's 501(c)(3) Leadership Programs. Our headlining band for the evening will be the Occasions! There will be heavy hors d'oeuvres and a cash bar. Register now as space is limited. *You must preregister for this event\, no walk-ins.  \n\n\n\n**Cancellations after August 12\, 2022 will not be refunded as reservations have been made in your name.\n\n \n\n*IT IS POSSIBLE AT ANY OF OUR CHAMBER EVENTS WE WILL BE TAKING PHOTOS AND/OR VIDEOING\, AND THAT YOU MAY BE FEATURED IN THESE PHOTOS/VIDEOS. THESE PHOTOS/VIDEOS ARE FOR THE USE OF THE VENICE AREA CHAMBER OF COMMERCE ONLY AND COULD POSSIBLY BE FEATURED ON OUR SOCIAL MEDIA ACCOUNTS\, ON OUR WEBSITE\, AND/OR IN THE CHAMBER'S ADVERTISEMENTS AND PROMOTIONAL MATERIALS.
X-ALT-DESC;FMTTYPE=text/html:<p style="text-align: justify\;"><span style="color:#000000\;"><span style="font-size:16px\;"><span style="font-family:arial\;"><strong>Join us for an evening of entertainment at our first ever Chamber Has Talent Presented By Plantation Golf &amp\; Country Club (500 Rockley Blvd\, Venice\, FL 34293) on Friday\, August 19th from 5:30 PM - 9 PM. You don&#39\;t want to miss our lineup of Chamber Members showcasing their special talents\, so come out and be a part of the fun while also helping to pay it forward for our future generations. All funds raised will benefit the Venice Area Chamber of Commerce Foundation&#39\;s 501(c)(3) Leadership Programs. Our headlining band for the evening will be the Occasions! There will be heavy hors d&#39\;oeuvres and a cash bar.&nbsp\;</strong></span></span><span style="font-size:14px\;"><span style="font-size:16px\;"><span style="font-family:arial\;"><strong>Register now as space is limited.&nbsp\;</strong></span></span><em><span style="font-size:16px\;"><span style="font-family:arial\;">*You must preregister for this event\, no walk-ins.&nbsp\;&nbsp\;</span></span></em><br />\n<br style="font-size: 18px\;" />\n<span style="font-size:16px\;"><span style="font-family:arial\;"><strong style="font-size: 18px\;"><em>**Cancellations after August 12\, 2022 will not be refunded as reservations have been made in your name.</em></strong></span></span></span></span><br />\n&nbsp\;</p>\n\n<div style="text-align: justify\;"><span style="color:#000000\;"><span style="font-size:12px\;"><strong><em><span style="font-family:arial\;">*IT IS POSSIBLE AT ANY OF OUR CHAMBER EVENTS WE WILL BE TAKING PHOTOS AND/OR VIDEOING\, AND THAT YOU MAY BE FEATURED IN THESE PHOTOS/VIDEOS. THESE PHOTOS/VIDEOS ARE FOR THE USE OF THE VENICE AREA CHAMBER OF COMMERCE ONLY AND COULD POSSIBLY BE FEATURED ON OUR SOCIAL MEDIA ACCOUNTS\, ON OUR WEBSITE\, AND/OR IN THE CHAMBER&rsquo\;S ADVERTISEMENTS AND PROMOTIONAL MATERIALS.</span></em></strong></span></span></div>\n
LOCATION:Plantation Golf & Country Club 500 Rockley Blvd. Venice FL 34293
UID:e.3379.6585
SEQUENCE:3
DTSTAMP:20260420T022800Z
URL:https://business.venicechamber.com/events/details/chamber-has-talent-2022-6585
END:VEVENT

END:VCALENDAR
