BEGIN:VCALENDAR
VERSION:2.0
PRODID:-//ChamberMaster//Event Calendar 2.0//EN
METHOD:PUBLISH
X-PUBLISHED-TTL:P3D
REFRESH-INTERVAL:P3D
CALSCALE:GREGORIAN
BEGIN:VEVENT
DTSTART:20220329T130000Z
DTEND:20220329T140000Z
X-MICROSOFT-CDO-ALLDAYEVENT:FALSE
SUMMARY:Chamber ED - March 29\, 2022
DESCRIPTION:Get the most from your Chamber Membership! Join us for our in person Chamber Ed on March 29th from 9 AM - 10 AM at the Venice Chamber. Hear about the many benefits available to you during this short session with the Chamber Team. \n\n\n\nLight refreshments will be provided.
X-ALT-DESC;FMTTYPE=text/html:<div style="text-align: justify\;"><span style="font-size:18px\;"><strong>Get the most from your Chamber Membership! Join us for our in person Chamber Ed on March 29th from 9 AM - 10 AM at the Venice Chamber. Hear about the many benefits available to you during this short session with the Chamber Team.&nbsp\;<br />\n<br />\nLight refreshments will be provided.</strong></span><br />\n&nbsp\;</div>\n
LOCATION:IN PERSON AT THE CHAMBER 597 S Tamiami Trail Venice\, FL 34285
UID:e.3379.6543
SEQUENCE:3
DTSTAMP:20260419T175556Z
URL:https://business.venicechamber.com/events/details/chamber-ed-march-29-2022-6543
END:VEVENT

END:VCALENDAR
