BEGIN:VCALENDAR
VERSION:2.0
PRODID:-//ChamberMaster//Event Calendar 2.0//EN
METHOD:PUBLISH
X-PUBLISHED-TTL:P3D
REFRESH-INTERVAL:P3D
CALSCALE:GREGORIAN
BEGIN:VEVENT
DTSTART:20200204T143000Z
DTEND:20200204T153000Z
X-MICROSOFT-CDO-ALLDAYEVENT:FALSE
SUMMARY:Chamber Ed February 2020
DESCRIPTION:Join us for CHAMBER ED at the Venice Area Chamber of Commerce to see how you can MAXIMIZE and FULLY ENGAGE your Chamber Membership!  Our team will lead you through a short and informative education session for all stages of your Chamber Membership.\n\n\n\nRefreshments provided by Cracker Barrel held in the large conference room at the Venice Area Chamber of Commerce!
X-ALT-DESC;FMTTYPE=text/html:<strong><span style="font-size:22px\;">Join us for CHAMBER ED at the Venice Area Chamber of Commerce to see how you can MAXIMIZE and FULLY ENGAGE your Chamber Membership!&nbsp\; Our team will lead you through a short and informative education session for all stages of your Chamber Membership.<br />\n<br />\nRefreshments provided by Cracker Barrel held in the large conference room at the Venice Area Chamber of Commerce!</span></strong>
LOCATION:Venice Area Chamber of Commerce 597 Tamiami Trail S Venice FL 34285
UID:e.3379.1869
SEQUENCE:3
DTSTAMP:20260425T023338Z
URL:https://business.venicechamber.com/events/details/chamber-ed-february-2020-1869
END:VEVENT

END:VCALENDAR
