BEGIN:VCALENDAR
VERSION:2.0
PRODID:-//ChamberMaster//Event Calendar 2.0//EN
METHOD:PUBLISH
X-PUBLISHED-TTL:P3D
REFRESH-INTERVAL:P3D
CALSCALE:GREGORIAN
BEGIN:VEVENT
DTSTART:20190806T133000Z
DTEND:20190806T143000Z
X-MICROSOFT-CDO-ALLDAYEVENT:FALSE
SUMMARY:Chamber Ed August 2019
DESCRIPTION:Join us for CHAMBER ED!  We will be bringing you up to speed on how you can MAXIMIZE and FULLY ENGAGE your Chamber Membership!  Our team will lead you through a short and informative education session for all stages of your Chamber Membership.
X-ALT-DESC;FMTTYPE=text/html:<span style="font-size:18px\;">Join us for CHAMBER ED!&nbsp\; We will be bringing you up to speed on how you can MAXIMIZE and FULLY ENGAGE your Chamber Membership!&nbsp\; Our team will lead you through a short and informative education session for all stages of your Chamber Membership.</span>
LOCATION:
UID:e.3379.1301
SEQUENCE:3
DTSTAMP:20260425T123434Z
URL:https://business.venicechamber.com/events/details/chamber-ed-august-2019-1301
END:VEVENT

END:VCALENDAR
